BEGIN:VCALENDAR
VERSION:2.0
PRODID:-//Quai de la Photo : Centre d’art photographique - ECPv6.15.11//NONSGML v1.0//EN
CALSCALE:GREGORIAN
METHOD:PUBLISH
X-WR-CALNAME:Quai de la Photo : Centre d’art photographique
X-ORIGINAL-URL:https://quaidelaphoto.fr
X-WR-CALDESC:Évènements pour Quai de la Photo : Centre d’art photographique
REFRESH-INTERVAL;VALUE=DURATION:PT1H
X-Robots-Tag:noindex
X-PUBLISHED-TTL:PT1H
BEGIN:VTIMEZONE
TZID:Europe/Paris
BEGIN:DAYLIGHT
TZOFFSETFROM:+0100
TZOFFSETTO:+0200
TZNAME:CEST
DTSTART:20250330T010000
END:DAYLIGHT
BEGIN:STANDARD
TZOFFSETFROM:+0200
TZOFFSETTO:+0100
TZNAME:CET
DTSTART:20251026T010000
END:STANDARD
BEGIN:DAYLIGHT
TZOFFSETFROM:+0100
TZOFFSETTO:+0200
TZNAME:CEST
DTSTART:20260329T010000
END:DAYLIGHT
BEGIN:STANDARD
TZOFFSETFROM:+0200
TZOFFSETTO:+0100
TZNAME:CET
DTSTART:20261025T010000
END:STANDARD
BEGIN:DAYLIGHT
TZOFFSETFROM:+0100
TZOFFSETTO:+0200
TZNAME:CEST
DTSTART:20270328T010000
END:DAYLIGHT
BEGIN:STANDARD
TZOFFSETFROM:+0200
TZOFFSETTO:+0100
TZNAME:CET
DTSTART:20271031T010000
END:STANDARD
END:VTIMEZONE
BEGIN:VEVENT
DTSTART;TZID=Europe/Paris:20260523T123000
DTEND;TZID=Europe/Paris:20260524T180000
DTSTAMP:20260424T052250
CREATED:20260409T162108Z
LAST-MODIFIED:20260409T162148Z
UID:10000925-1779539400-1779645600@quaidelaphoto.fr
SUMMARY:WEEK-END PHOTOGRAPHIQUE AVEC GENARO BARDY
DESCRIPTION:LA MARINA – TOUS LES SAMEDIS SOIR 🌊 ✨ Profitez d’une vue à couper le souffle pour vos before du samedi soir sur la Marina de Quai de la Photo. Préparez-vous surtout à vibrer sur la piste de danse située à l’intérieur de la péniche pour une expérience sonore immersive. Dj set de ce samedi soir : LEGAAvec un pied dans le groove des années 70 et l’autre dans les clubs d’aujourd’hui\, LEga mêle disco house\, house funky et sons plus actuels. Ses sets sont festifs\, lumineux et toujours calibrés pour le dancefloor. Une énergie contagieuse qui célèbre la fête sans nostalgie\, mais avec beaucoup de style. @gael__ch 🍾 Réservation de tables gratuites : quaidelaphoto.fr/decouvrir/reserver-une-table/ 🔞 Accès réservé aux 18 ans et plus. Présenté par Quai de la Photo\, l’un des lieux flottants les plus artistiques de Paris. Réservez vite\, les places sont limitées ! 								\n				\n				\n				\n									\n					\n						\n									Shotgun
URL:https://quaidelaphoto.fr/evenement/weekend-photographique-genaro-bardy/
LOCATION:Sur la barge\, 9 port de la Gare\, Paris\, 75013\, France
CATEGORIES:evenements
ATTACH;FMTTYPE=image/png:https://quaidelaphoto.fr/wp-content/uploads/2026/04/Capture-decran-2026-04-09-a-18.16.58.png
END:VEVENT
BEGIN:VEVENT
DTSTART;TZID=Europe/Paris:20260725T000000
DTEND;TZID=Europe/Paris:20260905T235900
DTSTAMP:20260424T052251
CREATED:20260327T092848Z
LAST-MODIFIED:20260327T094151Z
UID:10000915-1784937600-1788652740@quaidelaphoto.fr
SUMMARY:EXPOSITION - KATALIN SZÁRAZ
DESCRIPTION:LA MARINA – TOUS LES SAMEDIS SOIR 🌊 ✨ Profitez d’une vue à couper le souffle pour vos before du samedi soir sur la Marina de Quai de la Photo. Préparez-vous surtout à vibrer sur la piste de danse située à l’intérieur de la péniche pour une expérience sonore immersive. Dj set de ce samedi soir : LEGAAvec un pied dans le groove des années 70 et l’autre dans les clubs d’aujourd’hui\, LEga mêle disco house\, house funky et sons plus actuels. Ses sets sont festifs\, lumineux et toujours calibrés pour le dancefloor. Une énergie contagieuse qui célèbre la fête sans nostalgie\, mais avec beaucoup de style. @gael__ch 🍾 Réservation de tables gratuites : quaidelaphoto.fr/decouvrir/reserver-une-table/ 🔞 Accès réservé aux 18 ans et plus. Présenté par Quai de la Photo\, l’un des lieux flottants les plus artistiques de Paris. Réservez vite\, les places sont limitées ! 								\n				\n				\n				\n									\n					\n						\n									Shotgun
URL:https://quaidelaphoto.fr/evenement/katalin-szaraz/
LOCATION:Sur la barge\, 9 port de la Gare\, Paris\, 75013\, France
CATEGORIES:Expositions
ATTACH;FMTTYPE=image/png:https://quaidelaphoto.fr/wp-content/uploads/2026/03/programmation-en-cours.png
END:VEVENT
END:VCALENDAR