BEGIN:VCALENDAR
VERSION:2.0
PRODID:-//Quai de la Photo : Centre d’art photographique - ECPv6.15.11//NONSGML v1.0//EN
CALSCALE:GREGORIAN
METHOD:PUBLISH
X-ORIGINAL-URL:https://quaidelaphoto.fr
X-WR-CALDESC:Évènements pour Quai de la Photo : Centre d’art photographique
REFRESH-INTERVAL;VALUE=DURATION:PT1H
X-Robots-Tag:noindex
X-PUBLISHED-TTL:PT1H
BEGIN:VTIMEZONE
TZID:Europe/Paris
BEGIN:DAYLIGHT
TZOFFSETFROM:+0100
TZOFFSETTO:+0200
TZNAME:CEST
DTSTART:20250330T010000
END:DAYLIGHT
BEGIN:STANDARD
TZOFFSETFROM:+0200
TZOFFSETTO:+0100
TZNAME:CET
DTSTART:20251026T010000
END:STANDARD
BEGIN:DAYLIGHT
TZOFFSETFROM:+0100
TZOFFSETTO:+0200
TZNAME:CEST
DTSTART:20260329T010000
END:DAYLIGHT
BEGIN:STANDARD
TZOFFSETFROM:+0200
TZOFFSETTO:+0100
TZNAME:CET
DTSTART:20261025T010000
END:STANDARD
BEGIN:DAYLIGHT
TZOFFSETFROM:+0100
TZOFFSETTO:+0200
TZNAME:CEST
DTSTART:20270328T010000
END:DAYLIGHT
BEGIN:STANDARD
TZOFFSETFROM:+0200
TZOFFSETTO:+0100
TZNAME:CET
DTSTART:20271031T010000
END:STANDARD
END:VTIMEZONE
BEGIN:VEVENT
DTSTART;TZID=Europe/Paris:20260425T153000
DTEND;TZID=Europe/Paris:20260425T170000
DTSTAMP:20260421T124747
CREATED:20260324T150540Z
LAST-MODIFIED:20260324T150540Z
UID:10000909-1777131000-1777136400@quaidelaphoto.fr
SUMMARY:ATELIER ENFANTS AUTOUR DE L'EXPOSITION THE BEAT GOES ON
DESCRIPTION:AFTERWORK PORTFOLIO #18 – MERCREDI 22 OCTOBRE À PARTIR DE 19h Rendez-vous à Quai de la Photo muni de votre portfolio pour montrer votre travail et bénéficier de regards d’autres photographes le temps d’un afterwork de 19h00 à 21h00.  Nos afterworks portfolio sont conçus comme une opportunité de rencontrer et d’échanger avec d’autres photographes autour de portfolios personnels ou professionnels. À ce titre\, Quai de la Photo tient à ce que cet événement soit ouvert à tous\, professionnels\, amateurs et étudiants en photographie.  Un portfolio coup de cœur sera sélectionné à l’issue de l’afterwork.Venez dès 19h00 au 9 port de la Gare 75013 Paris. Inscription obligatoire. 								\n				\n				\n				\n									\n					\n						\n									Inscription
URL:https://quaidelaphoto.fr/evenement/atelier-enfants-autour-de-lexposition-the-beat-goes-on-8/
CATEGORIES:evenements
ATTACH;FMTTYPE=image/png:https://quaidelaphoto.fr/wp-content/uploads/2025/11/ATELIERENFANT-scaled.png
END:VEVENT
BEGIN:VEVENT
DTSTART;TZID=Europe/Paris:20260426T190000
DTEND;TZID=Europe/Paris:20260426T233000
DTSTAMP:20260421T124747
CREATED:20260417T110413Z
LAST-MODIFIED:20260417T110458Z
UID:10000929-1777230000-1777246200@quaidelaphoto.fr
SUMMARY:SOIRÉE SALSA
DESCRIPTION:AFTERWORK PORTFOLIO #18 – MERCREDI 22 OCTOBRE À PARTIR DE 19h Rendez-vous à Quai de la Photo muni de votre portfolio pour montrer votre travail et bénéficier de regards d’autres photographes le temps d’un afterwork de 19h00 à 21h00.  Nos afterworks portfolio sont conçus comme une opportunité de rencontrer et d’échanger avec d’autres photographes autour de portfolios personnels ou professionnels. À ce titre\, Quai de la Photo tient à ce que cet événement soit ouvert à tous\, professionnels\, amateurs et étudiants en photographie.  Un portfolio coup de cœur sera sélectionné à l’issue de l’afterwork.Venez dès 19h00 au 9 port de la Gare 75013 Paris. Inscription obligatoire. 								\n				\n				\n				\n									\n					\n						\n									Inscription
URL:https://quaidelaphoto.fr/evenement/soiree-salsa-4/
CATEGORIES:evenements
ATTACH;FMTTYPE=image/png:https://quaidelaphoto.fr/wp-content/uploads/2026/03/Soiree-Salsa-scaled.png
END:VEVENT
BEGIN:VEVENT
DTSTART;TZID=Europe/Paris:20260427T000000
DTEND;TZID=Europe/Paris:20260502T235900
DTSTAMP:20260421T124747
CREATED:20260327T093232Z
LAST-MODIFIED:20260409T111720Z
UID:10000914-1777248000-1777766340@quaidelaphoto.fr
SUMMARY:EXPOSITION - AUSTRAL\, LES ENGAGÉS POUR L'OCÉAN
DESCRIPTION:AFTERWORK PORTFOLIO #18 – MERCREDI 22 OCTOBRE À PARTIR DE 19h Rendez-vous à Quai de la Photo muni de votre portfolio pour montrer votre travail et bénéficier de regards d’autres photographes le temps d’un afterwork de 19h00 à 21h00.  Nos afterworks portfolio sont conçus comme une opportunité de rencontrer et d’échanger avec d’autres photographes autour de portfolios personnels ou professionnels. À ce titre\, Quai de la Photo tient à ce que cet événement soit ouvert à tous\, professionnels\, amateurs et étudiants en photographie.  Un portfolio coup de cœur sera sélectionné à l’issue de l’afterwork.Venez dès 19h00 au 9 port de la Gare 75013 Paris. Inscription obligatoire. 								\n				\n				\n				\n									\n					\n						\n									Inscription
URL:https://quaidelaphoto.fr/evenement/austral-les-engages-pour-les-ocean/
LOCATION:Sur la barge\, 9 port de la Gare\, Paris\, 75013\, France
CATEGORIES:Expositions
ATTACH;FMTTYPE=image/png:https://quaidelaphoto.fr/wp-content/uploads/2026/03/Austral.png
END:VEVENT
BEGIN:VEVENT
DTSTART;TZID=Europe/Paris:20260506T000000
DTEND;TZID=Europe/Paris:20260605T235900
DTSTAMP:20260421T124747
CREATED:20260327T094622Z
LAST-MODIFIED:20260409T111624Z
UID:10000916-1778025600-1780703940@quaidelaphoto.fr
SUMMARY:EXPOSITION - ANITA CONTI ｜ENTRE DOCUMENTAIRE ET POÉSIE
DESCRIPTION:AFTERWORK PORTFOLIO #18 – MERCREDI 22 OCTOBRE À PARTIR DE 19h Rendez-vous à Quai de la Photo muni de votre portfolio pour montrer votre travail et bénéficier de regards d’autres photographes le temps d’un afterwork de 19h00 à 21h00.  Nos afterworks portfolio sont conçus comme une opportunité de rencontrer et d’échanger avec d’autres photographes autour de portfolios personnels ou professionnels. À ce titre\, Quai de la Photo tient à ce que cet événement soit ouvert à tous\, professionnels\, amateurs et étudiants en photographie.  Un portfolio coup de cœur sera sélectionné à l’issue de l’afterwork.Venez dès 19h00 au 9 port de la Gare 75013 Paris. Inscription obligatoire. 								\n				\n				\n				\n									\n					\n						\n									Inscription
URL:https://quaidelaphoto.fr/evenement/exposition-anita-conti-entre-documentaire-et-poesie/
LOCATION:Dans la salle d’exposition du bateau\, 9 port de la Gare\, Paris\, 75013\, France
CATEGORIES:Expositions
ATTACH;FMTTYPE=image/png:https://quaidelaphoto.fr/wp-content/uploads/2026/03/Capture-decran-2026-03-12-a-17.31.23.png
END:VEVENT
BEGIN:VEVENT
DTSTART;TZID=Europe/Paris:20260523T123000
DTEND;TZID=Europe/Paris:20260524T180000
DTSTAMP:20260421T124747
CREATED:20260409T162108Z
LAST-MODIFIED:20260409T162148Z
UID:10000925-1779539400-1779645600@quaidelaphoto.fr
SUMMARY:WEEK-END PHOTOGRAPHIQUE AVEC GENARO BARDY
DESCRIPTION:AFTERWORK PORTFOLIO #18 – MERCREDI 22 OCTOBRE À PARTIR DE 19h Rendez-vous à Quai de la Photo muni de votre portfolio pour montrer votre travail et bénéficier de regards d’autres photographes le temps d’un afterwork de 19h00 à 21h00.  Nos afterworks portfolio sont conçus comme une opportunité de rencontrer et d’échanger avec d’autres photographes autour de portfolios personnels ou professionnels. À ce titre\, Quai de la Photo tient à ce que cet événement soit ouvert à tous\, professionnels\, amateurs et étudiants en photographie.  Un portfolio coup de cœur sera sélectionné à l’issue de l’afterwork.Venez dès 19h00 au 9 port de la Gare 75013 Paris. Inscription obligatoire. 								\n				\n				\n				\n									\n					\n						\n									Inscription
URL:https://quaidelaphoto.fr/evenement/weekend-photographique-genaro-bardy/
LOCATION:Sur la barge\, 9 port de la Gare\, Paris\, 75013\, France
CATEGORIES:evenements
ATTACH;FMTTYPE=image/png:https://quaidelaphoto.fr/wp-content/uploads/2026/04/Capture-decran-2026-04-09-a-18.16.58.png
END:VEVENT
BEGIN:VEVENT
DTSTART;TZID=Europe/Paris:20260725T000000
DTEND;TZID=Europe/Paris:20260905T235900
DTSTAMP:20260421T124747
CREATED:20260327T092848Z
LAST-MODIFIED:20260327T094151Z
UID:10000915-1784937600-1788652740@quaidelaphoto.fr
SUMMARY:EXPOSITION - KATALIN SZÁRAZ
DESCRIPTION:AFTERWORK PORTFOLIO #18 – MERCREDI 22 OCTOBRE À PARTIR DE 19h Rendez-vous à Quai de la Photo muni de votre portfolio pour montrer votre travail et bénéficier de regards d’autres photographes le temps d’un afterwork de 19h00 à 21h00.  Nos afterworks portfolio sont conçus comme une opportunité de rencontrer et d’échanger avec d’autres photographes autour de portfolios personnels ou professionnels. À ce titre\, Quai de la Photo tient à ce que cet événement soit ouvert à tous\, professionnels\, amateurs et étudiants en photographie.  Un portfolio coup de cœur sera sélectionné à l’issue de l’afterwork.Venez dès 19h00 au 9 port de la Gare 75013 Paris. Inscription obligatoire. 								\n				\n				\n				\n									\n					\n						\n									Inscription
URL:https://quaidelaphoto.fr/evenement/katalin-szaraz/
LOCATION:Sur la barge\, 9 port de la Gare\, Paris\, 75013\, France
CATEGORIES:Expositions
ATTACH;FMTTYPE=image/png:https://quaidelaphoto.fr/wp-content/uploads/2026/03/programmation-en-cours.png
END:VEVENT
END:VCALENDAR