BEGIN:VCALENDAR
VERSION:2.0
PRODID:-//Quai de la Photo : Centre d’art photographique - ECPv6.15.11//NONSGML v1.0//EN
CALSCALE:GREGORIAN
METHOD:PUBLISH
X-ORIGINAL-URL:https://quaidelaphoto.fr
X-WR-CALDESC:Évènements pour Quai de la Photo : Centre d’art photographique
REFRESH-INTERVAL;VALUE=DURATION:PT1H
X-Robots-Tag:noindex
X-PUBLISHED-TTL:PT1H
BEGIN:VTIMEZONE
TZID:Europe/Paris
BEGIN:DAYLIGHT
TZOFFSETFROM:+0100
TZOFFSETTO:+0200
TZNAME:CEST
DTSTART:20220327T010000
END:DAYLIGHT
BEGIN:STANDARD
TZOFFSETFROM:+0200
TZOFFSETTO:+0100
TZNAME:CET
DTSTART:20221030T010000
END:STANDARD
BEGIN:DAYLIGHT
TZOFFSETFROM:+0100
TZOFFSETTO:+0200
TZNAME:CEST
DTSTART:20230326T010000
END:DAYLIGHT
BEGIN:STANDARD
TZOFFSETFROM:+0200
TZOFFSETTO:+0100
TZNAME:CET
DTSTART:20231029T010000
END:STANDARD
BEGIN:DAYLIGHT
TZOFFSETFROM:+0100
TZOFFSETTO:+0200
TZNAME:CEST
DTSTART:20240331T010000
END:DAYLIGHT
BEGIN:STANDARD
TZOFFSETFROM:+0200
TZOFFSETTO:+0100
TZNAME:CET
DTSTART:20241027T010000
END:STANDARD
END:VTIMEZONE
BEGIN:VEVENT
DTSTART;TZID=Europe/Paris:20231103T190000
DTEND;TZID=Europe/Paris:20231104T020000
DTSTAMP:20260422T150536
CREATED:20231027T105239Z
LAST-MODIFIED:20231107T130505Z
UID:10000029-1699038000-1699063200@quaidelaphoto.fr
SUMMARY:Soirée Les Nocturnes du Studio #1
DESCRIPTION:LA MARINA – TOUS LES SAMEDIS SOIR 🌊 ✨ Profitez d’une vue à couper le souffle pour siroter des cocktails signature entouré d’amis\, sur la Marina de Quai de la Photo. Préparez-vous surtout à vibrer sur la piste de danse située à l’intérieur de la péniche pour une expérience sonore immersive. Dj set de ce samedi soir par NLDoté d’une curiosité artistique développée\, influencé par le croisement du hip-hop et de l’électronique\, il a fait de cette fusion un atout majeur\, l’amenant à briller aussi bien dans les univers hip-hop que techno et house. Ses performances sont souvent une alliance habile entre mélodie\, énergie\, intensité émotionnelle et puissance. NJ\, maestro de l’improvisation\, crée un lien unique avec son public à travers ses DJ sets spontanés et envoûtants @nl__nj  🍾 Réservation de tables gratuites : quaidelaphoto.fr/decouvrir/reserver-une-table/ 🔞 Accès réservé aux 18 ans et plus. Présenté par Quai de la Photo\, l’un des lieux flottants les plus artistiques de Paris. Réservez vite\, les places sont limitées ! 								\n				\n				\n				\n									\n					\n						\n									SHOTGUN
URL:https://quaidelaphoto.fr/evenement/soiree-les-nocturnes-du-studio-1/
CATEGORIES:evenements
ATTACH;FMTTYPE=image/jpeg:https://quaidelaphoto.fr/wp-content/uploads/2023/10/the-haze-1.jpg
END:VEVENT
BEGIN:VEVENT
DTSTART;TZID=Europe/Paris:20231027T190000
DTEND;TZID=Europe/Paris:20231028T020000
DTSTAMP:20260422T150536
CREATED:20231024T102028Z
LAST-MODIFIED:20231114T205308Z
UID:10000028-1698433200-1698458400@quaidelaphoto.fr
SUMMARY:Soirée Coco Loco #1
DESCRIPTION:LA MARINA – TOUS LES SAMEDIS SOIR 🌊 ✨ Profitez d’une vue à couper le souffle pour siroter des cocktails signature entouré d’amis\, sur la Marina de Quai de la Photo. Préparez-vous surtout à vibrer sur la piste de danse située à l’intérieur de la péniche pour une expérience sonore immersive. Dj set de ce samedi soir par NLDoté d’une curiosité artistique développée\, influencé par le croisement du hip-hop et de l’électronique\, il a fait de cette fusion un atout majeur\, l’amenant à briller aussi bien dans les univers hip-hop que techno et house. Ses performances sont souvent une alliance habile entre mélodie\, énergie\, intensité émotionnelle et puissance. NJ\, maestro de l’improvisation\, crée un lien unique avec son public à travers ses DJ sets spontanés et envoûtants @nl__nj  🍾 Réservation de tables gratuites : quaidelaphoto.fr/decouvrir/reserver-une-table/ 🔞 Accès réservé aux 18 ans et plus. Présenté par Quai de la Photo\, l’un des lieux flottants les plus artistiques de Paris. Réservez vite\, les places sont limitées ! 								\n				\n				\n				\n									\n					\n						\n									SHOTGUN
URL:https://quaidelaphoto.fr/evenement/soiree-coco-loco-1/
CATEGORIES:evenements
ATTACH;FMTTYPE=image/jpeg:https://quaidelaphoto.fr/wp-content/uploads/2023/10/cocoloco3-1.jpg
END:VEVENT
BEGIN:VEVENT
DTSTART;VALUE=DATE:20231019
DTEND;VALUE=DATE:20231210
DTSTAMP:20260422T150536
CREATED:20231204T091931Z
LAST-MODIFIED:20240505T173719Z
UID:10000045-1697688000-1702094399@quaidelaphoto.fr
SUMMARY:JEUNES ÉNERGIES
DESCRIPTION:LA MARINA – TOUS LES SAMEDIS SOIR 🌊 ✨ Profitez d’une vue à couper le souffle pour siroter des cocktails signature entouré d’amis\, sur la Marina de Quai de la Photo. Préparez-vous surtout à vibrer sur la piste de danse située à l’intérieur de la péniche pour une expérience sonore immersive. Dj set de ce samedi soir par NLDoté d’une curiosité artistique développée\, influencé par le croisement du hip-hop et de l’électronique\, il a fait de cette fusion un atout majeur\, l’amenant à briller aussi bien dans les univers hip-hop que techno et house. Ses performances sont souvent une alliance habile entre mélodie\, énergie\, intensité émotionnelle et puissance. NJ\, maestro de l’improvisation\, crée un lien unique avec son public à travers ses DJ sets spontanés et envoûtants @nl__nj  🍾 Réservation de tables gratuites : quaidelaphoto.fr/decouvrir/reserver-une-table/ 🔞 Accès réservé aux 18 ans et plus. Présenté par Quai de la Photo\, l’un des lieux flottants les plus artistiques de Paris. Réservez vite\, les places sont limitées ! 								\n				\n				\n				\n									\n					\n						\n									SHOTGUN
URL:https://quaidelaphoto.fr/evenement/jeunes-energies-2/
LOCATION:Dans la salle d’exposition du bateau\, 9 port de la Gare\, Paris\, 75013\, France
CATEGORIES:Expositions
ATTACH;FMTTYPE=image/jpeg:https://quaidelaphoto.fr/wp-content/uploads/2023/10/BAZRI_Dans-l_eau-de-Nice-Plaisir-2021_72dpi-e1695124517860.jpg
END:VEVENT
BEGIN:VEVENT
DTSTART;TZID=Europe/Paris:20231018T180000
DTEND;TZID=Europe/Paris:20231018T180000
DTSTAMP:20260422T150536
CREATED:20231016T061315Z
LAST-MODIFIED:20231019T075312Z
UID:10000027-1697652000-1697652000@quaidelaphoto.fr
SUMMARY:Vernissage de l’exposition « Jeunes Energies »
DESCRIPTION:LA MARINA – TOUS LES SAMEDIS SOIR 🌊 ✨ Profitez d’une vue à couper le souffle pour siroter des cocktails signature entouré d’amis\, sur la Marina de Quai de la Photo. Préparez-vous surtout à vibrer sur la piste de danse située à l’intérieur de la péniche pour une expérience sonore immersive. Dj set de ce samedi soir par NLDoté d’une curiosité artistique développée\, influencé par le croisement du hip-hop et de l’électronique\, il a fait de cette fusion un atout majeur\, l’amenant à briller aussi bien dans les univers hip-hop que techno et house. Ses performances sont souvent une alliance habile entre mélodie\, énergie\, intensité émotionnelle et puissance. NJ\, maestro de l’improvisation\, crée un lien unique avec son public à travers ses DJ sets spontanés et envoûtants @nl__nj  🍾 Réservation de tables gratuites : quaidelaphoto.fr/decouvrir/reserver-une-table/ 🔞 Accès réservé aux 18 ans et plus. Présenté par Quai de la Photo\, l’un des lieux flottants les plus artistiques de Paris. Réservez vite\, les places sont limitées ! 								\n				\n				\n				\n									\n					\n						\n									SHOTGUN
URL:https://quaidelaphoto.fr/evenement/vernissage-de-lexposition-jeunes-energies/
CATEGORIES:evenements
ATTACH;FMTTYPE=image/png:https://quaidelaphoto.fr/wp-content/uploads/2023/09/BAZRI_Dans-l_eau-de-Nice-Plaisir-2021_72dpi-e1695124517860.png
END:VEVENT
BEGIN:VEVENT
DTSTART;VALUE=DATE:20230720
DTEND;VALUE=DATE:20230926
DTSTAMP:20260422T150536
CREATED:20231020T055155Z
LAST-MODIFIED:20231020T065858Z
UID:10000033-1689825600-1695614399@quaidelaphoto.fr
SUMMARY:MARTIN PARR
DESCRIPTION:LA MARINA – TOUS LES SAMEDIS SOIR 🌊 ✨ Profitez d’une vue à couper le souffle pour siroter des cocktails signature entouré d’amis\, sur la Marina de Quai de la Photo. Préparez-vous surtout à vibrer sur la piste de danse située à l’intérieur de la péniche pour une expérience sonore immersive. Dj set de ce samedi soir par NLDoté d’une curiosité artistique développée\, influencé par le croisement du hip-hop et de l’électronique\, il a fait de cette fusion un atout majeur\, l’amenant à briller aussi bien dans les univers hip-hop que techno et house. Ses performances sont souvent une alliance habile entre mélodie\, énergie\, intensité émotionnelle et puissance. NJ\, maestro de l’improvisation\, crée un lien unique avec son public à travers ses DJ sets spontanés et envoûtants @nl__nj  🍾 Réservation de tables gratuites : quaidelaphoto.fr/decouvrir/reserver-une-table/ 🔞 Accès réservé aux 18 ans et plus. Présenté par Quai de la Photo\, l’un des lieux flottants les plus artistiques de Paris. Réservez vite\, les places sont limitées ! 								\n				\n				\n				\n									\n					\n						\n									SHOTGUN
URL:https://quaidelaphoto.fr/evenement/martin-parr-2/2023-07-20/
LOCATION:Sur la barge\, 9 port de la Gare\, Paris\, 75013\, France
CATEGORIES:Expositions
ATTACH;FMTTYPE=image/jpeg:https://quaidelaphoto.fr/wp-content/uploads/2023/05/LON13714.jpg
END:VEVENT
BEGIN:VEVENT
DTSTART;VALUE=DATE:20230627
DTEND;VALUE=DATE:20230926
DTSTAMP:20260422T150536
CREATED:20231020T071057Z
LAST-MODIFIED:20231020T071803Z
UID:10000034-1687838400-1695614399@quaidelaphoto.fr
SUMMARY:CLEMENTINE SCHNEIDERMANN
DESCRIPTION:LA MARINA – TOUS LES SAMEDIS SOIR 🌊 ✨ Profitez d’une vue à couper le souffle pour siroter des cocktails signature entouré d’amis\, sur la Marina de Quai de la Photo. Préparez-vous surtout à vibrer sur la piste de danse située à l’intérieur de la péniche pour une expérience sonore immersive. Dj set de ce samedi soir par NLDoté d’une curiosité artistique développée\, influencé par le croisement du hip-hop et de l’électronique\, il a fait de cette fusion un atout majeur\, l’amenant à briller aussi bien dans les univers hip-hop que techno et house. Ses performances sont souvent une alliance habile entre mélodie\, énergie\, intensité émotionnelle et puissance. NJ\, maestro de l’improvisation\, crée un lien unique avec son public à travers ses DJ sets spontanés et envoûtants @nl__nj  🍾 Réservation de tables gratuites : quaidelaphoto.fr/decouvrir/reserver-une-table/ 🔞 Accès réservé aux 18 ans et plus. Présenté par Quai de la Photo\, l’un des lieux flottants les plus artistiques de Paris. Réservez vite\, les places sont limitées ! 								\n				\n				\n				\n									\n					\n						\n									SHOTGUN
URL:https://quaidelaphoto.fr/evenement/clementine-schneidermann/
LOCATION:Sur la terrasse des quais\, 9 port de la Gare\, Paris\, 75013\, France
CATEGORIES:Expositions
ATTACH;FMTTYPE=image/jpeg:https://quaidelaphoto.fr/wp-content/uploads/2023/03/ClementineSchneidermann01-vignette-1.jpg
END:VEVENT
END:VCALENDAR