BEGIN:VCALENDAR
VERSION:2.0
PRODID:-//Quai de la Photo : Centre d’art photographique - ECPv6.15.11//NONSGML v1.0//EN
CALSCALE:GREGORIAN
METHOD:PUBLISH
X-WR-CALNAME:Quai de la Photo : Centre d’art photographique
X-ORIGINAL-URL:https://quaidelaphoto.fr
X-WR-CALDESC:Évènements pour Quai de la Photo : Centre d’art photographique
REFRESH-INTERVAL;VALUE=DURATION:PT1H
X-Robots-Tag:noindex
X-PUBLISHED-TTL:PT1H
BEGIN:VTIMEZONE
TZID:Europe/Paris
BEGIN:DAYLIGHT
TZOFFSETFROM:+0100
TZOFFSETTO:+0200
TZNAME:CEST
DTSTART:20220327T010000
END:DAYLIGHT
BEGIN:STANDARD
TZOFFSETFROM:+0200
TZOFFSETTO:+0100
TZNAME:CET
DTSTART:20221030T010000
END:STANDARD
BEGIN:DAYLIGHT
TZOFFSETFROM:+0100
TZOFFSETTO:+0200
TZNAME:CEST
DTSTART:20230326T010000
END:DAYLIGHT
BEGIN:STANDARD
TZOFFSETFROM:+0200
TZOFFSETTO:+0100
TZNAME:CET
DTSTART:20231029T010000
END:STANDARD
BEGIN:DAYLIGHT
TZOFFSETFROM:+0100
TZOFFSETTO:+0200
TZNAME:CEST
DTSTART:20240331T010000
END:DAYLIGHT
BEGIN:STANDARD
TZOFFSETFROM:+0200
TZOFFSETTO:+0100
TZNAME:CET
DTSTART:20241027T010000
END:STANDARD
BEGIN:DAYLIGHT
TZOFFSETFROM:+0100
TZOFFSETTO:+0200
TZNAME:CEST
DTSTART:20250330T010000
END:DAYLIGHT
BEGIN:STANDARD
TZOFFSETFROM:+0200
TZOFFSETTO:+0100
TZNAME:CET
DTSTART:20251026T010000
END:STANDARD
END:VTIMEZONE
BEGIN:VEVENT
DTSTART;TZID=Europe/Paris:20240112T190000
DTEND;TZID=Europe/Paris:20240113T020000
DTSTAMP:20260422T133741
CREATED:20240106T160536Z
LAST-MODIFIED:20240110T162129Z
UID:10000047-1705086000-1705111200@quaidelaphoto.fr
SUMMARY:Soirée Turbulence sur Seine
DESCRIPTION:Réservez votre place pour un afterwork autour de l’IA !  L’Intelligence Artificielle avance à pas de géant\, et ceux qui la construisent méritent un lieu d’échange à la hauteur de leur impact. Notre IA Afterwork n’est pas un événement de plus\, c’est le point de rencontre informel et essentiel de l’écosystème. Oubliez les conférences où l’on reste assis et les plateformes numériques impersonnelles. Nous vous proposons un lieu chaleureux\, typique d’une belle soirée parisienne\, où les idées circulent aussi librement que les conversations. LA TIMELINE : 18h00 – 19h00 : Échanges entre participants19h00 – 20h00 : Présentation des 4 solutions dans l’IA20h00 – 21h00 : Discussion avec 4 tables hautes pour chacune des solutions21h00 : DJs								\n				\n				\n				\n									\n					\n						\n									JE M'INSCRIS
URL:https://quaidelaphoto.fr/evenement/soiree-turbulence-sur-seine-2/
LOCATION:Sur la barge\, 9 port de la Gare\, Paris\, 75013\, France
CATEGORIES:evenements
ATTACH;FMTTYPE=image/png:https://quaidelaphoto.fr/wp-content/uploads/2023/12/Capture-decran-2023-12-23-a-15.34.26.png
END:VEVENT
BEGIN:VEVENT
DTSTART;TZID=Europe/Paris:20240111T190000
DTEND;TZID=Europe/Paris:20240112T020000
DTSTAMP:20260422T133741
CREATED:20231213T115407Z
LAST-MODIFIED:20240106T163118Z
UID:10000053-1704999600-1705024800@quaidelaphoto.fr
SUMMARY:Soirée Les Nocturnes du Studio #3
DESCRIPTION:Réservez votre place pour un afterwork autour de l’IA !  L’Intelligence Artificielle avance à pas de géant\, et ceux qui la construisent méritent un lieu d’échange à la hauteur de leur impact. Notre IA Afterwork n’est pas un événement de plus\, c’est le point de rencontre informel et essentiel de l’écosystème. Oubliez les conférences où l’on reste assis et les plateformes numériques impersonnelles. Nous vous proposons un lieu chaleureux\, typique d’une belle soirée parisienne\, où les idées circulent aussi librement que les conversations. LA TIMELINE : 18h00 – 19h00 : Échanges entre participants19h00 – 20h00 : Présentation des 4 solutions dans l’IA20h00 – 21h00 : Discussion avec 4 tables hautes pour chacune des solutions21h00 : DJs								\n				\n				\n				\n									\n					\n						\n									JE M'INSCRIS
URL:https://quaidelaphoto.fr/evenement/soiree-les-nocturnes-du-studio-3/
CATEGORIES:evenements
ATTACH;FMTTYPE=image/jpeg:https://quaidelaphoto.fr/wp-content/uploads/2023/12/image-1-scaled.jpeg
END:VEVENT
BEGIN:VEVENT
DTSTART;TZID=Europe/Paris:20231222T180000
DTEND;TZID=Europe/Paris:20231222T210000
DTSTAMP:20260422T133741
CREATED:20231213T121136Z
LAST-MODIFIED:20231222T184445Z
UID:10000056-1703268000-1703278800@quaidelaphoto.fr
SUMMARY:Afterwork Portfolio #1
DESCRIPTION:Réservez votre place pour un afterwork autour de l’IA !  L’Intelligence Artificielle avance à pas de géant\, et ceux qui la construisent méritent un lieu d’échange à la hauteur de leur impact. Notre IA Afterwork n’est pas un événement de plus\, c’est le point de rencontre informel et essentiel de l’écosystème. Oubliez les conférences où l’on reste assis et les plateformes numériques impersonnelles. Nous vous proposons un lieu chaleureux\, typique d’une belle soirée parisienne\, où les idées circulent aussi librement que les conversations. LA TIMELINE : 18h00 – 19h00 : Échanges entre participants19h00 – 20h00 : Présentation des 4 solutions dans l’IA20h00 – 21h00 : Discussion avec 4 tables hautes pour chacune des solutions21h00 : DJs								\n				\n				\n				\n									\n					\n						\n									JE M'INSCRIS
URL:https://quaidelaphoto.fr/evenement/soiree-portfolio-1/
LOCATION:Sur la barge\, 9 port de la Gare\, Paris\, 75013\, France
CATEGORIES:evenements
ATTACH;FMTTYPE=image/png:https://quaidelaphoto.fr/wp-content/uploads/2023/12/Capture-decran-2023-12-22-a-19.39.28.png
END:VEVENT
BEGIN:VEVENT
DTSTART;TZID=Europe/Paris:20231221T190000
DTEND;TZID=Europe/Paris:20231221T190000
DTSTAMP:20260422T133741
CREATED:20231107T132514Z
LAST-MODIFIED:20240105T102547Z
UID:10000059-1703185200-1703185200@quaidelaphoto.fr
SUMMARY:Soirée Coco Loco #3
DESCRIPTION:Réservez votre place pour un afterwork autour de l’IA !  L’Intelligence Artificielle avance à pas de géant\, et ceux qui la construisent méritent un lieu d’échange à la hauteur de leur impact. Notre IA Afterwork n’est pas un événement de plus\, c’est le point de rencontre informel et essentiel de l’écosystème. Oubliez les conférences où l’on reste assis et les plateformes numériques impersonnelles. Nous vous proposons un lieu chaleureux\, typique d’une belle soirée parisienne\, où les idées circulent aussi librement que les conversations. LA TIMELINE : 18h00 – 19h00 : Échanges entre participants19h00 – 20h00 : Présentation des 4 solutions dans l’IA20h00 – 21h00 : Discussion avec 4 tables hautes pour chacune des solutions21h00 : DJs								\n				\n				\n				\n									\n					\n						\n									JE M'INSCRIS
URL:https://quaidelaphoto.fr/evenement/soiree-coco-loco-3/
CATEGORIES:evenements
ATTACH;FMTTYPE=image/jpeg:https://quaidelaphoto.fr/wp-content/uploads/2023/10/cocoloco3-1.jpg
END:VEVENT
BEGIN:VEVENT
DTSTART;VALUE=DATE:20231216
DTEND;VALUE=DATE:20240322
DTSTAMP:20260422T133741
CREATED:20231218T130459Z
LAST-MODIFIED:20231218T130713Z
UID:10000042-1702699200-1710993599@quaidelaphoto.fr
SUMMARY:KATE BARRY
DESCRIPTION:Réservez votre place pour un afterwork autour de l’IA !  L’Intelligence Artificielle avance à pas de géant\, et ceux qui la construisent méritent un lieu d’échange à la hauteur de leur impact. Notre IA Afterwork n’est pas un événement de plus\, c’est le point de rencontre informel et essentiel de l’écosystème. Oubliez les conférences où l’on reste assis et les plateformes numériques impersonnelles. Nous vous proposons un lieu chaleureux\, typique d’une belle soirée parisienne\, où les idées circulent aussi librement que les conversations. LA TIMELINE : 18h00 – 19h00 : Échanges entre participants19h00 – 20h00 : Présentation des 4 solutions dans l’IA20h00 – 21h00 : Discussion avec 4 tables hautes pour chacune des solutions21h00 : DJs								\n				\n				\n				\n									\n					\n						\n									JE M'INSCRIS
URL:https://quaidelaphoto.fr/evenement/kate-barry-2-2/
LOCATION:Dans la salle d’exposition du bateau\, 9 port de la Gare\, Paris\, 75013\, France
CATEGORIES:Expositions
ATTACH;FMTTYPE=image/png:https://quaidelaphoto.fr/wp-content/uploads/2023/11/Capture-decran-2023-11-18-a-11.59.56-1-e1702378105654.png
END:VEVENT
BEGIN:VEVENT
DTSTART;TZID=Europe/Paris:20231215T180000
DTEND;TZID=Europe/Paris:20231216T020000
DTSTAMP:20260422T133741
CREATED:20231213T113243Z
LAST-MODIFIED:20231213T113243Z
UID:10000051-1702663200-1702692000@quaidelaphoto.fr
SUMMARY:Vernissage de l'exposition My Own Space de Kate Barry
DESCRIPTION:Réservez votre place pour un afterwork autour de l’IA !  L’Intelligence Artificielle avance à pas de géant\, et ceux qui la construisent méritent un lieu d’échange à la hauteur de leur impact. Notre IA Afterwork n’est pas un événement de plus\, c’est le point de rencontre informel et essentiel de l’écosystème. Oubliez les conférences où l’on reste assis et les plateformes numériques impersonnelles. Nous vous proposons un lieu chaleureux\, typique d’une belle soirée parisienne\, où les idées circulent aussi librement que les conversations. LA TIMELINE : 18h00 – 19h00 : Échanges entre participants19h00 – 20h00 : Présentation des 4 solutions dans l’IA20h00 – 21h00 : Discussion avec 4 tables hautes pour chacune des solutions21h00 : DJs								\n				\n				\n				\n									\n					\n						\n									JE M'INSCRIS
URL:https://quaidelaphoto.fr/evenement/vernissage-de-lexposition-my-own-space-de-kate-barry/
CATEGORIES:evenements
ATTACH;FMTTYPE=image/png:https://quaidelaphoto.fr/wp-content/uploads/2023/12/Capture-decran-2023-12-13-a-12.32.06.png
END:VEVENT
BEGIN:VEVENT
DTSTART;TZID=Europe/Paris:20231206T190000
DTEND;TZID=Europe/Paris:20231206T190000
DTSTAMP:20260422T133741
CREATED:20231128T144153Z
LAST-MODIFIED:20231128T144153Z
UID:10000036-1701889200-1701889200@quaidelaphoto.fr
SUMMARY:RENCONTRE Ronan Guillou
DESCRIPTION:Réservez votre place pour un afterwork autour de l’IA !  L’Intelligence Artificielle avance à pas de géant\, et ceux qui la construisent méritent un lieu d’échange à la hauteur de leur impact. Notre IA Afterwork n’est pas un événement de plus\, c’est le point de rencontre informel et essentiel de l’écosystème. Oubliez les conférences où l’on reste assis et les plateformes numériques impersonnelles. Nous vous proposons un lieu chaleureux\, typique d’une belle soirée parisienne\, où les idées circulent aussi librement que les conversations. LA TIMELINE : 18h00 – 19h00 : Échanges entre participants19h00 – 20h00 : Présentation des 4 solutions dans l’IA20h00 – 21h00 : Discussion avec 4 tables hautes pour chacune des solutions21h00 : DJs								\n				\n				\n				\n									\n					\n						\n									JE M'INSCRIS
URL:https://quaidelaphoto.fr/evenement/rencontre-ronand-guillou-2/
CATEGORIES:evenements
ATTACH;FMTTYPE=image/jpeg:https://quaidelaphoto.fr/wp-content/uploads/2023/11/ir.guillou_twisted.jpg-1320x1320-copie.jpg
END:VEVENT
BEGIN:VEVENT
DTSTART;TZID=Europe/Paris:20231206T180000
DTEND;TZID=Europe/Paris:20231207T020000
DTSTAMP:20260422T133741
CREATED:20231107T144828Z
LAST-MODIFIED:20231114T213805Z
UID:10000039-1701885600-1701914400@quaidelaphoto.fr
SUMMARY:Soirée Gala de Kreatful
DESCRIPTION:Réservez votre place pour un afterwork autour de l’IA !  L’Intelligence Artificielle avance à pas de géant\, et ceux qui la construisent méritent un lieu d’échange à la hauteur de leur impact. Notre IA Afterwork n’est pas un événement de plus\, c’est le point de rencontre informel et essentiel de l’écosystème. Oubliez les conférences où l’on reste assis et les plateformes numériques impersonnelles. Nous vous proposons un lieu chaleureux\, typique d’une belle soirée parisienne\, où les idées circulent aussi librement que les conversations. LA TIMELINE : 18h00 – 19h00 : Échanges entre participants19h00 – 20h00 : Présentation des 4 solutions dans l’IA20h00 – 21h00 : Discussion avec 4 tables hautes pour chacune des solutions21h00 : DJs								\n				\n				\n				\n									\n					\n						\n									JE M'INSCRIS
URL:https://quaidelaphoto.fr/evenement/soiree-gala-de-kreatful/
CATEGORIES:evenements
ATTACH;FMTTYPE=image/jpeg:https://quaidelaphoto.fr/wp-content/uploads/2023/11/image00001-2-scaled.jpg
END:VEVENT
BEGIN:VEVENT
DTSTART;TZID=Europe/Paris:20231201T190000
DTEND;TZID=Europe/Paris:20231202T020000
DTSTAMP:20260422T133741
CREATED:20231107T124537Z
LAST-MODIFIED:20231107T130308Z
UID:10000037-1701457200-1701482400@quaidelaphoto.fr
SUMMARY:Soirée Les Nocturnes du Studio #2
DESCRIPTION:Réservez votre place pour un afterwork autour de l’IA !  L’Intelligence Artificielle avance à pas de géant\, et ceux qui la construisent méritent un lieu d’échange à la hauteur de leur impact. Notre IA Afterwork n’est pas un événement de plus\, c’est le point de rencontre informel et essentiel de l’écosystème. Oubliez les conférences où l’on reste assis et les plateformes numériques impersonnelles. Nous vous proposons un lieu chaleureux\, typique d’une belle soirée parisienne\, où les idées circulent aussi librement que les conversations. LA TIMELINE : 18h00 – 19h00 : Échanges entre participants19h00 – 20h00 : Présentation des 4 solutions dans l’IA20h00 – 21h00 : Discussion avec 4 tables hautes pour chacune des solutions21h00 : DJs								\n				\n				\n				\n									\n					\n						\n									JE M'INSCRIS
URL:https://quaidelaphoto.fr/evenement/soiree-les-nocturnes-du-studio-2/
CATEGORIES:evenements
ATTACH;FMTTYPE=image/jpeg:https://quaidelaphoto.fr/wp-content/uploads/2023/10/the-haze-1.jpg
END:VEVENT
BEGIN:VEVENT
DTSTART;TZID=Europe/Paris:20231124T190000
DTEND;TZID=Europe/Paris:20231125T020000
DTSTAMP:20260422T133741
CREATED:20231113T164651Z
LAST-MODIFIED:20231114T205112Z
UID:10000040-1700852400-1700877600@quaidelaphoto.fr
SUMMARY:Soirée Coco Loco #2
DESCRIPTION:Réservez votre place pour un afterwork autour de l’IA !  L’Intelligence Artificielle avance à pas de géant\, et ceux qui la construisent méritent un lieu d’échange à la hauteur de leur impact. Notre IA Afterwork n’est pas un événement de plus\, c’est le point de rencontre informel et essentiel de l’écosystème. Oubliez les conférences où l’on reste assis et les plateformes numériques impersonnelles. Nous vous proposons un lieu chaleureux\, typique d’une belle soirée parisienne\, où les idées circulent aussi librement que les conversations. LA TIMELINE : 18h00 – 19h00 : Échanges entre participants19h00 – 20h00 : Présentation des 4 solutions dans l’IA20h00 – 21h00 : Discussion avec 4 tables hautes pour chacune des solutions21h00 : DJs								\n				\n				\n				\n									\n					\n						\n									JE M'INSCRIS
URL:https://quaidelaphoto.fr/evenement/soiree-coco-loco-2-2/
CATEGORIES:evenements
ATTACH;FMTTYPE=image/jpeg:https://quaidelaphoto.fr/wp-content/uploads/2023/10/cocoloco3-1.jpg
END:VEVENT
BEGIN:VEVENT
DTSTART;TZID=Europe/Paris:20231109T190000
DTEND;TZID=Europe/Paris:20231109T190000
DTSTAMP:20260422T133741
CREATED:20231016T095500Z
LAST-MODIFIED:20231027T112653Z
UID:10000031-1699556400-1699556400@quaidelaphoto.fr
SUMMARY:Lancement Revue The Eyes #14
DESCRIPTION:Réservez votre place pour un afterwork autour de l’IA !  L’Intelligence Artificielle avance à pas de géant\, et ceux qui la construisent méritent un lieu d’échange à la hauteur de leur impact. Notre IA Afterwork n’est pas un événement de plus\, c’est le point de rencontre informel et essentiel de l’écosystème. Oubliez les conférences où l’on reste assis et les plateformes numériques impersonnelles. Nous vous proposons un lieu chaleureux\, typique d’une belle soirée parisienne\, où les idées circulent aussi librement que les conversations. LA TIMELINE : 18h00 – 19h00 : Échanges entre participants19h00 – 20h00 : Présentation des 4 solutions dans l’IA20h00 – 21h00 : Discussion avec 4 tables hautes pour chacune des solutions21h00 : DJs								\n				\n				\n				\n									\n					\n						\n									JE M'INSCRIS
URL:https://quaidelaphoto.fr/evenement/lancement-revue-the-eyes-14/
CATEGORIES:evenements
ATTACH;FMTTYPE=image/jpeg:https://quaidelaphoto.fr/wp-content/uploads/2023/10/COVER-FR-1280x1280-2.jpg
END:VEVENT
BEGIN:VEVENT
DTSTART;TZID=Europe/Paris:20231108T190000
DTEND;TZID=Europe/Paris:20231108T190000
DTSTAMP:20260422T133741
CREATED:20231016T095409Z
LAST-MODIFIED:20231027T112751Z
UID:10000030-1699470000-1699470000@quaidelaphoto.fr
SUMMARY:Signature Laura
DESCRIPTION:Réservez votre place pour un afterwork autour de l’IA !  L’Intelligence Artificielle avance à pas de géant\, et ceux qui la construisent méritent un lieu d’échange à la hauteur de leur impact. Notre IA Afterwork n’est pas un événement de plus\, c’est le point de rencontre informel et essentiel de l’écosystème. Oubliez les conférences où l’on reste assis et les plateformes numériques impersonnelles. Nous vous proposons un lieu chaleureux\, typique d’une belle soirée parisienne\, où les idées circulent aussi librement que les conversations. LA TIMELINE : 18h00 – 19h00 : Échanges entre participants19h00 – 20h00 : Présentation des 4 solutions dans l’IA20h00 – 21h00 : Discussion avec 4 tables hautes pour chacune des solutions21h00 : DJs								\n				\n				\n				\n									\n					\n						\n									JE M'INSCRIS
URL:https://quaidelaphoto.fr/evenement/signature-laura/
CATEGORIES:evenements
ATTACH;FMTTYPE=image/jpeg:https://quaidelaphoto.fr/wp-content/uploads/2023/10/COVER_JAQUETTE-copie-1280x1280-2.jpg
END:VEVENT
BEGIN:VEVENT
DTSTART;TZID=Europe/Paris:20231103T190000
DTEND;TZID=Europe/Paris:20231104T020000
DTSTAMP:20260422T133741
CREATED:20231027T105239Z
LAST-MODIFIED:20231107T130505Z
UID:10000029-1699038000-1699063200@quaidelaphoto.fr
SUMMARY:Soirée Les Nocturnes du Studio #1
DESCRIPTION:Réservez votre place pour un afterwork autour de l’IA !  L’Intelligence Artificielle avance à pas de géant\, et ceux qui la construisent méritent un lieu d’échange à la hauteur de leur impact. Notre IA Afterwork n’est pas un événement de plus\, c’est le point de rencontre informel et essentiel de l’écosystème. Oubliez les conférences où l’on reste assis et les plateformes numériques impersonnelles. Nous vous proposons un lieu chaleureux\, typique d’une belle soirée parisienne\, où les idées circulent aussi librement que les conversations. LA TIMELINE : 18h00 – 19h00 : Échanges entre participants19h00 – 20h00 : Présentation des 4 solutions dans l’IA20h00 – 21h00 : Discussion avec 4 tables hautes pour chacune des solutions21h00 : DJs								\n				\n				\n				\n									\n					\n						\n									JE M'INSCRIS
URL:https://quaidelaphoto.fr/evenement/soiree-les-nocturnes-du-studio-1/
CATEGORIES:evenements
ATTACH;FMTTYPE=image/jpeg:https://quaidelaphoto.fr/wp-content/uploads/2023/10/the-haze-1.jpg
END:VEVENT
BEGIN:VEVENT
DTSTART;TZID=Europe/Paris:20231027T190000
DTEND;TZID=Europe/Paris:20231028T020000
DTSTAMP:20260422T133741
CREATED:20231024T102028Z
LAST-MODIFIED:20231114T205308Z
UID:10000028-1698433200-1698458400@quaidelaphoto.fr
SUMMARY:Soirée Coco Loco #1
DESCRIPTION:Réservez votre place pour un afterwork autour de l’IA !  L’Intelligence Artificielle avance à pas de géant\, et ceux qui la construisent méritent un lieu d’échange à la hauteur de leur impact. Notre IA Afterwork n’est pas un événement de plus\, c’est le point de rencontre informel et essentiel de l’écosystème. Oubliez les conférences où l’on reste assis et les plateformes numériques impersonnelles. Nous vous proposons un lieu chaleureux\, typique d’une belle soirée parisienne\, où les idées circulent aussi librement que les conversations. LA TIMELINE : 18h00 – 19h00 : Échanges entre participants19h00 – 20h00 : Présentation des 4 solutions dans l’IA20h00 – 21h00 : Discussion avec 4 tables hautes pour chacune des solutions21h00 : DJs								\n				\n				\n				\n									\n					\n						\n									JE M'INSCRIS
URL:https://quaidelaphoto.fr/evenement/soiree-coco-loco-1/
CATEGORIES:evenements
ATTACH;FMTTYPE=image/jpeg:https://quaidelaphoto.fr/wp-content/uploads/2023/10/cocoloco3-1.jpg
END:VEVENT
BEGIN:VEVENT
DTSTART;VALUE=DATE:20231019
DTEND;VALUE=DATE:20231210
DTSTAMP:20260422T133741
CREATED:20231204T091931Z
LAST-MODIFIED:20240505T173719Z
UID:10000045-1697688000-1702094399@quaidelaphoto.fr
SUMMARY:JEUNES ÉNERGIES
DESCRIPTION:Réservez votre place pour un afterwork autour de l’IA !  L’Intelligence Artificielle avance à pas de géant\, et ceux qui la construisent méritent un lieu d’échange à la hauteur de leur impact. Notre IA Afterwork n’est pas un événement de plus\, c’est le point de rencontre informel et essentiel de l’écosystème. Oubliez les conférences où l’on reste assis et les plateformes numériques impersonnelles. Nous vous proposons un lieu chaleureux\, typique d’une belle soirée parisienne\, où les idées circulent aussi librement que les conversations. LA TIMELINE : 18h00 – 19h00 : Échanges entre participants19h00 – 20h00 : Présentation des 4 solutions dans l’IA20h00 – 21h00 : Discussion avec 4 tables hautes pour chacune des solutions21h00 : DJs								\n				\n				\n				\n									\n					\n						\n									JE M'INSCRIS
URL:https://quaidelaphoto.fr/evenement/jeunes-energies-2/
LOCATION:Dans la salle d’exposition du bateau\, 9 port de la Gare\, Paris\, 75013\, France
CATEGORIES:Expositions
ATTACH;FMTTYPE=image/jpeg:https://quaidelaphoto.fr/wp-content/uploads/2023/10/BAZRI_Dans-l_eau-de-Nice-Plaisir-2021_72dpi-e1695124517860.jpg
END:VEVENT
BEGIN:VEVENT
DTSTART;TZID=Europe/Paris:20231018T180000
DTEND;TZID=Europe/Paris:20231018T180000
DTSTAMP:20260422T133741
CREATED:20231016T061315Z
LAST-MODIFIED:20231019T075312Z
UID:10000027-1697652000-1697652000@quaidelaphoto.fr
SUMMARY:Vernissage de l’exposition « Jeunes Energies »
DESCRIPTION:Réservez votre place pour un afterwork autour de l’IA !  L’Intelligence Artificielle avance à pas de géant\, et ceux qui la construisent méritent un lieu d’échange à la hauteur de leur impact. Notre IA Afterwork n’est pas un événement de plus\, c’est le point de rencontre informel et essentiel de l’écosystème. Oubliez les conférences où l’on reste assis et les plateformes numériques impersonnelles. Nous vous proposons un lieu chaleureux\, typique d’une belle soirée parisienne\, où les idées circulent aussi librement que les conversations. LA TIMELINE : 18h00 – 19h00 : Échanges entre participants19h00 – 20h00 : Présentation des 4 solutions dans l’IA20h00 – 21h00 : Discussion avec 4 tables hautes pour chacune des solutions21h00 : DJs								\n				\n				\n				\n									\n					\n						\n									JE M'INSCRIS
URL:https://quaidelaphoto.fr/evenement/vernissage-de-lexposition-jeunes-energies/
CATEGORIES:evenements
ATTACH;FMTTYPE=image/png:https://quaidelaphoto.fr/wp-content/uploads/2023/09/BAZRI_Dans-l_eau-de-Nice-Plaisir-2021_72dpi-e1695124517860.png
END:VEVENT
BEGIN:VEVENT
DTSTART;VALUE=DATE:20230720
DTEND;VALUE=DATE:20230926
DTSTAMP:20260422T133741
CREATED:20231020T055155Z
LAST-MODIFIED:20231020T065858Z
UID:10000033-1689825600-1695614399@quaidelaphoto.fr
SUMMARY:MARTIN PARR
DESCRIPTION:Réservez votre place pour un afterwork autour de l’IA !  L’Intelligence Artificielle avance à pas de géant\, et ceux qui la construisent méritent un lieu d’échange à la hauteur de leur impact. Notre IA Afterwork n’est pas un événement de plus\, c’est le point de rencontre informel et essentiel de l’écosystème. Oubliez les conférences où l’on reste assis et les plateformes numériques impersonnelles. Nous vous proposons un lieu chaleureux\, typique d’une belle soirée parisienne\, où les idées circulent aussi librement que les conversations. LA TIMELINE : 18h00 – 19h00 : Échanges entre participants19h00 – 20h00 : Présentation des 4 solutions dans l’IA20h00 – 21h00 : Discussion avec 4 tables hautes pour chacune des solutions21h00 : DJs								\n				\n				\n				\n									\n					\n						\n									JE M'INSCRIS
URL:https://quaidelaphoto.fr/evenement/martin-parr-2/2023-07-20/
LOCATION:Sur la barge\, 9 port de la Gare\, Paris\, 75013\, France
CATEGORIES:Expositions
ATTACH;FMTTYPE=image/jpeg:https://quaidelaphoto.fr/wp-content/uploads/2023/05/LON13714.jpg
END:VEVENT
BEGIN:VEVENT
DTSTART;VALUE=DATE:20230627
DTEND;VALUE=DATE:20230926
DTSTAMP:20260422T133741
CREATED:20231020T071057Z
LAST-MODIFIED:20231020T071803Z
UID:10000034-1687838400-1695614399@quaidelaphoto.fr
SUMMARY:CLEMENTINE SCHNEIDERMANN
DESCRIPTION:Réservez votre place pour un afterwork autour de l’IA !  L’Intelligence Artificielle avance à pas de géant\, et ceux qui la construisent méritent un lieu d’échange à la hauteur de leur impact. Notre IA Afterwork n’est pas un événement de plus\, c’est le point de rencontre informel et essentiel de l’écosystème. Oubliez les conférences où l’on reste assis et les plateformes numériques impersonnelles. Nous vous proposons un lieu chaleureux\, typique d’une belle soirée parisienne\, où les idées circulent aussi librement que les conversations. LA TIMELINE : 18h00 – 19h00 : Échanges entre participants19h00 – 20h00 : Présentation des 4 solutions dans l’IA20h00 – 21h00 : Discussion avec 4 tables hautes pour chacune des solutions21h00 : DJs								\n				\n				\n				\n									\n					\n						\n									JE M'INSCRIS
URL:https://quaidelaphoto.fr/evenement/clementine-schneidermann/
LOCATION:Sur la terrasse des quais\, 9 port de la Gare\, Paris\, 75013\, France
CATEGORIES:Expositions
ATTACH;FMTTYPE=image/jpeg:https://quaidelaphoto.fr/wp-content/uploads/2023/03/ClementineSchneidermann01-vignette-1.jpg
END:VEVENT
END:VCALENDAR