BEGIN:VCALENDAR
VERSION:2.0
PRODID:-//Quai de la Photo : Centre d’art photographique - ECPv6.15.11//NONSGML v1.0//EN
CALSCALE:GREGORIAN
METHOD:PUBLISH
X-WR-CALNAME:Quai de la Photo : Centre d’art photographique
X-ORIGINAL-URL:https://quaidelaphoto.fr
X-WR-CALDESC:Évènements pour Quai de la Photo : Centre d’art photographique
REFRESH-INTERVAL;VALUE=DURATION:PT1H
X-Robots-Tag:noindex
X-PUBLISHED-TTL:PT1H
BEGIN:VTIMEZONE
TZID:Europe/Paris
BEGIN:DAYLIGHT
TZOFFSETFROM:+0100
TZOFFSETTO:+0200
TZNAME:CEST
DTSTART:20230326T010000
END:DAYLIGHT
BEGIN:STANDARD
TZOFFSETFROM:+0200
TZOFFSETTO:+0100
TZNAME:CET
DTSTART:20231029T010000
END:STANDARD
BEGIN:DAYLIGHT
TZOFFSETFROM:+0100
TZOFFSETTO:+0200
TZNAME:CEST
DTSTART:20240331T010000
END:DAYLIGHT
BEGIN:STANDARD
TZOFFSETFROM:+0200
TZOFFSETTO:+0100
TZNAME:CET
DTSTART:20241027T010000
END:STANDARD
BEGIN:DAYLIGHT
TZOFFSETFROM:+0100
TZOFFSETTO:+0200
TZNAME:CEST
DTSTART:20250330T010000
END:DAYLIGHT
BEGIN:STANDARD
TZOFFSETFROM:+0200
TZOFFSETTO:+0100
TZNAME:CET
DTSTART:20251026T010000
END:STANDARD
END:VTIMEZONE
BEGIN:VEVENT
DTSTART;VALUE=DATE:20240916
DTEND;VALUE=DATE:20241224
DTSTAMP:20260421T110748
CREATED:20240905T170922Z
LAST-MODIFIED:20241002T164504Z
UID:10000504-1726459200-1734926399@quaidelaphoto.fr
SUMMARY:BICENTENAIRE DE L'INVENTION DE LA PHOTOGRAPHIE
DESCRIPTION:Groove Nomade revient pour une nouvelle session au Quais de la Photo. Cette fois-ci avec un spécial guest : Rafa Nandez\, DJ et producteur de la scène musicale à Málaga et du Brunch Electronik. Une édition spéciale Latin House. Groove Nomade is back for a new session at Quais de la Photo. This time with a special guest: Rafa Nandez\, a DJ in Málaga’s music scene and part of Brunch Electronik. A special edition Latin House. Line up : RafaNandezNomade 130T-NouxSebastiàn Gomez Lechaptois 								\n				\n				\n				\n									\n					\n						\n									SHOTGUN
URL:https://quaidelaphoto.fr/evenement/bicentenaire/
LOCATION:Dans la salle d’exposition du bateau\, 9 port de la Gare\, Paris\, 75013\, France
CATEGORIES:Expositions
ATTACH;FMTTYPE=image/png:https://quaidelaphoto.fr/wp-content/uploads/2024/09/BICENTNAIRE-.png
END:VEVENT
BEGIN:VEVENT
DTSTART;TZID=Europe/Paris:20241101T190000
DTEND;TZID=Europe/Paris:20241102T020000
DTSTAMP:20260421T110748
CREATED:20241029T101148Z
LAST-MODIFIED:20241031T114855Z
UID:10000527-1730487600-1730512800@quaidelaphoto.fr
SUMMARY:Open Platine #8
DESCRIPTION:Groove Nomade revient pour une nouvelle session au Quais de la Photo. Cette fois-ci avec un spécial guest : Rafa Nandez\, DJ et producteur de la scène musicale à Málaga et du Brunch Electronik. Une édition spéciale Latin House. Groove Nomade is back for a new session at Quais de la Photo. This time with a special guest: Rafa Nandez\, a DJ in Málaga’s music scene and part of Brunch Electronik. A special edition Latin House. Line up : RafaNandezNomade 130T-NouxSebastiàn Gomez Lechaptois 								\n				\n				\n				\n									\n					\n						\n									SHOTGUN
URL:https://quaidelaphoto.fr/evenement/open-platine/
CATEGORIES:evenements
ATTACH;FMTTYPE=image/webp:https://quaidelaphoto.fr/wp-content/uploads/2024/10/soiree-open-platine-1-1.webp
END:VEVENT
BEGIN:VEVENT
DTSTART;TZID=Europe/Paris:20241102T190000
DTEND;TZID=Europe/Paris:20241103T020000
DTSTAMP:20260421T110748
CREATED:20241028T100808Z
LAST-MODIFIED:20241028T101129Z
UID:10000526-1730574000-1730599200@quaidelaphoto.fr
SUMMARY:La Marina#6
DESCRIPTION:Groove Nomade revient pour une nouvelle session au Quais de la Photo. Cette fois-ci avec un spécial guest : Rafa Nandez\, DJ et producteur de la scène musicale à Málaga et du Brunch Electronik. Une édition spéciale Latin House. Groove Nomade is back for a new session at Quais de la Photo. This time with a special guest: Rafa Nandez\, a DJ in Málaga’s music scene and part of Brunch Electronik. A special edition Latin House. Line up : RafaNandezNomade 130T-NouxSebastiàn Gomez Lechaptois 								\n				\n				\n				\n									\n					\n						\n									SHOTGUN
URL:https://quaidelaphoto.fr/evenement/la-marina-8/
CATEGORIES:evenements
ATTACH;FMTTYPE=image/png:https://quaidelaphoto.fr/wp-content/uploads/2024/06/Marina.png
END:VEVENT
BEGIN:VEVENT
DTSTART;TZID=Europe/Paris:20241107T200000
DTEND;TZID=Europe/Paris:20241108T020000
DTSTAMP:20260421T110748
CREATED:20241031T104610Z
LAST-MODIFIED:20241031T105057Z
UID:10000531-1731009600-1731031200@quaidelaphoto.fr
SUMMARY:QUAI HOUSE
DESCRIPTION:Groove Nomade revient pour une nouvelle session au Quais de la Photo. Cette fois-ci avec un spécial guest : Rafa Nandez\, DJ et producteur de la scène musicale à Málaga et du Brunch Electronik. Une édition spéciale Latin House. Groove Nomade is back for a new session at Quais de la Photo. This time with a special guest: Rafa Nandez\, a DJ in Málaga’s music scene and part of Brunch Electronik. A special edition Latin House. Line up : RafaNandezNomade 130T-NouxSebastiàn Gomez Lechaptois 								\n				\n				\n				\n									\n					\n						\n									SHOTGUN
URL:https://quaidelaphoto.fr/evenement/quai-house-2/
CATEGORIES:evenements
ATTACH;FMTTYPE=image/png:https://quaidelaphoto.fr/wp-content/uploads/2024/10/QuaiHouseSite.png
END:VEVENT
BEGIN:VEVENT
DTSTART;TZID=Europe/Paris:20241108T180000
DTEND;TZID=Europe/Paris:20241108T200000
DTSTAMP:20260421T110748
CREATED:20241104T101628Z
LAST-MODIFIED:20241108T115036Z
UID:10000538-1731088800-1731096000@quaidelaphoto.fr
SUMMARY:SIGNATURE
DESCRIPTION:Groove Nomade revient pour une nouvelle session au Quais de la Photo. Cette fois-ci avec un spécial guest : Rafa Nandez\, DJ et producteur de la scène musicale à Málaga et du Brunch Electronik. Une édition spéciale Latin House. Groove Nomade is back for a new session at Quais de la Photo. This time with a special guest: Rafa Nandez\, a DJ in Málaga’s music scene and part of Brunch Electronik. A special edition Latin House. Line up : RafaNandezNomade 130T-NouxSebastiàn Gomez Lechaptois 								\n				\n				\n				\n									\n					\n						\n									SHOTGUN
URL:https://quaidelaphoto.fr/evenement/signature/
CATEGORIES:evenements,Rencontre
ATTACH;FMTTYPE=image/png:https://quaidelaphoto.fr/wp-content/uploads/2024/11/Keep-The-Kid-Alive.png
END:VEVENT
BEGIN:VEVENT
DTSTART;TZID=Europe/Paris:20241108T203000
DTEND;TZID=Europe/Paris:20241109T020000
DTSTAMP:20260421T110748
CREATED:20241031T110901Z
LAST-MODIFIED:20241031T111510Z
UID:10000532-1731097800-1731117600@quaidelaphoto.fr
SUMMARY:LIFE ON LOOP
DESCRIPTION:Groove Nomade revient pour une nouvelle session au Quais de la Photo. Cette fois-ci avec un spécial guest : Rafa Nandez\, DJ et producteur de la scène musicale à Málaga et du Brunch Electronik. Une édition spéciale Latin House. Groove Nomade is back for a new session at Quais de la Photo. This time with a special guest: Rafa Nandez\, a DJ in Málaga’s music scene and part of Brunch Electronik. A special edition Latin House. Line up : RafaNandezNomade 130T-NouxSebastiàn Gomez Lechaptois 								\n				\n				\n				\n									\n					\n						\n									SHOTGUN
URL:https://quaidelaphoto.fr/evenement/life-on-loop/
CATEGORIES:evenements
ATTACH;FMTTYPE=image/png:https://quaidelaphoto.fr/wp-content/uploads/2024/10/LifeOnLoopSite.png
END:VEVENT
BEGIN:VEVENT
DTSTART;TZID=Europe/Paris:20241109T140000
DTEND;TZID=Europe/Paris:20241109T153000
DTSTAMP:20260421T110748
CREATED:20241108T163928Z
LAST-MODIFIED:20241108T164059Z
UID:10000539-1731160800-1731166200@quaidelaphoto.fr
SUMMARY:Signature Guillaume Perret
DESCRIPTION:Groove Nomade revient pour une nouvelle session au Quais de la Photo. Cette fois-ci avec un spécial guest : Rafa Nandez\, DJ et producteur de la scène musicale à Málaga et du Brunch Electronik. Une édition spéciale Latin House. Groove Nomade is back for a new session at Quais de la Photo. This time with a special guest: Rafa Nandez\, a DJ in Málaga’s music scene and part of Brunch Electronik. A special edition Latin House. Line up : RafaNandezNomade 130T-NouxSebastiàn Gomez Lechaptois 								\n				\n				\n				\n									\n					\n						\n									SHOTGUN
URL:https://quaidelaphoto.fr/evenement/signature-guillaume-perret/
CATEGORIES:evenements,Rencontre
ATTACH;FMTTYPE=image/png:https://quaidelaphoto.fr/wp-content/uploads/2024/11/TIKTOK-PP.png
END:VEVENT
BEGIN:VEVENT
DTSTART;TZID=Europe/Paris:20241109T160000
DTEND;TZID=Europe/Paris:20241109T173000
DTSTAMP:20260421T110748
CREATED:20241108T164219Z
LAST-MODIFIED:20241108T164344Z
UID:10000540-1731168000-1731173400@quaidelaphoto.fr
SUMMARY:Signature Diana Markosian
DESCRIPTION:Groove Nomade revient pour une nouvelle session au Quais de la Photo. Cette fois-ci avec un spécial guest : Rafa Nandez\, DJ et producteur de la scène musicale à Málaga et du Brunch Electronik. Une édition spéciale Latin House. Groove Nomade is back for a new session at Quais de la Photo. This time with a special guest: Rafa Nandez\, a DJ in Málaga’s music scene and part of Brunch Electronik. A special edition Latin House. Line up : RafaNandezNomade 130T-NouxSebastiàn Gomez Lechaptois 								\n				\n				\n				\n									\n					\n						\n									SHOTGUN
URL:https://quaidelaphoto.fr/evenement/signature-diana-markosian/
CATEGORIES:evenements,Rencontre
ATTACH;FMTTYPE=image/png:https://quaidelaphoto.fr/wp-content/uploads/2024/11/TIKTOK-PP2.png
END:VEVENT
BEGIN:VEVENT
DTSTART;TZID=Europe/Paris:20241109T180000
DTEND;TZID=Europe/Paris:20241109T193000
DTSTAMP:20260421T110748
CREATED:20241108T164456Z
LAST-MODIFIED:20241108T164608Z
UID:10000541-1731175200-1731180600@quaidelaphoto.fr
SUMMARY:Signature Mika Sperling
DESCRIPTION:Groove Nomade revient pour une nouvelle session au Quais de la Photo. Cette fois-ci avec un spécial guest : Rafa Nandez\, DJ et producteur de la scène musicale à Málaga et du Brunch Electronik. Une édition spéciale Latin House. Groove Nomade is back for a new session at Quais de la Photo. This time with a special guest: Rafa Nandez\, a DJ in Málaga’s music scene and part of Brunch Electronik. A special edition Latin House. Line up : RafaNandezNomade 130T-NouxSebastiàn Gomez Lechaptois 								\n				\n				\n				\n									\n					\n						\n									SHOTGUN
URL:https://quaidelaphoto.fr/evenement/signature-mika-sperling/
CATEGORIES:evenements,Rencontre
ATTACH;FMTTYPE=image/png:https://quaidelaphoto.fr/wp-content/uploads/2024/11/MAL_2.png
END:VEVENT
BEGIN:VEVENT
DTSTART;TZID=Europe/Paris:20241109T190000
DTEND;TZID=Europe/Paris:20241110T020000
DTSTAMP:20260421T110748
CREATED:20241031T134222Z
LAST-MODIFIED:20241031T134337Z
UID:10000534-1731178800-1731204000@quaidelaphoto.fr
SUMMARY:La Marina#7
DESCRIPTION:Groove Nomade revient pour une nouvelle session au Quais de la Photo. Cette fois-ci avec un spécial guest : Rafa Nandez\, DJ et producteur de la scène musicale à Málaga et du Brunch Electronik. Une édition spéciale Latin House. Groove Nomade is back for a new session at Quais de la Photo. This time with a special guest: Rafa Nandez\, a DJ in Málaga’s music scene and part of Brunch Electronik. A special edition Latin House. Line up : RafaNandezNomade 130T-NouxSebastiàn Gomez Lechaptois 								\n				\n				\n				\n									\n					\n						\n									SHOTGUN
URL:https://quaidelaphoto.fr/evenement/la-marina7/
CATEGORIES:evenements
ATTACH;FMTTYPE=image/png:https://quaidelaphoto.fr/wp-content/uploads/2024/06/Marina.png
END:VEVENT
BEGIN:VEVENT
DTSTART;TZID=Europe/Paris:20241110T160000
DTEND;TZID=Europe/Paris:20241110T210000
DTSTAMP:20260421T110748
CREATED:20241031T111742Z
LAST-MODIFIED:20241104T110114Z
UID:10000533-1731254400-1731272400@quaidelaphoto.fr
SUMMARY:Hommage à Yan Morvan
DESCRIPTION:Groove Nomade revient pour une nouvelle session au Quais de la Photo. Cette fois-ci avec un spécial guest : Rafa Nandez\, DJ et producteur de la scène musicale à Málaga et du Brunch Electronik. Une édition spéciale Latin House. Groove Nomade is back for a new session at Quais de la Photo. This time with a special guest: Rafa Nandez\, a DJ in Málaga’s music scene and part of Brunch Electronik. A special edition Latin House. Line up : RafaNandezNomade 130T-NouxSebastiàn Gomez Lechaptois 								\n				\n				\n				\n									\n					\n						\n									SHOTGUN
URL:https://quaidelaphoto.fr/evenement/hommage-a-yan-morvan/
CATEGORIES:evenements
ATTACH;FMTTYPE=image/jpeg:https://quaidelaphoto.fr/wp-content/uploads/2024/10/PHOTO-2024-11-01-16-30-15.jpg
END:VEVENT
BEGIN:VEVENT
DTSTART;TZID=Europe/Paris:20241113T190000
DTEND;TZID=Europe/Paris:20241113T213000
DTSTAMP:20260421T110748
CREATED:20241018T113400Z
LAST-MODIFIED:20241018T113400Z
UID:10000522-1731524400-1731533400@quaidelaphoto.fr
SUMMARY:Afterwork Portfolio #10
DESCRIPTION:Groove Nomade revient pour une nouvelle session au Quais de la Photo. Cette fois-ci avec un spécial guest : Rafa Nandez\, DJ et producteur de la scène musicale à Málaga et du Brunch Electronik. Une édition spéciale Latin House. Groove Nomade is back for a new session at Quais de la Photo. This time with a special guest: Rafa Nandez\, a DJ in Málaga’s music scene and part of Brunch Electronik. A special edition Latin House. Line up : RafaNandezNomade 130T-NouxSebastiàn Gomez Lechaptois 								\n				\n				\n				\n									\n					\n						\n									SHOTGUN
URL:https://quaidelaphoto.fr/evenement/afterwork-portfolio-10/
LOCATION:Dans la salle d’exposition du bateau\, 9 port de la Gare\, Paris\, 75013\, France
CATEGORIES:evenements
ATTACH;FMTTYPE=image/jpeg:https://quaidelaphoto.fr/wp-content/uploads/2024/10/AFTERWORKPORTFOLIO--scaled.jpg
END:VEVENT
BEGIN:VEVENT
DTSTART;TZID=Europe/Paris:20241113T190000
DTEND;TZID=Europe/Paris:20241114T020000
DTSTAMP:20260421T110748
CREATED:20241029T112526Z
LAST-MODIFIED:20241101T141509Z
UID:10000528-1731524400-1731549600@quaidelaphoto.fr
SUMMARY:Soirée ON OFF
DESCRIPTION:Groove Nomade revient pour une nouvelle session au Quais de la Photo. Cette fois-ci avec un spécial guest : Rafa Nandez\, DJ et producteur de la scène musicale à Málaga et du Brunch Electronik. Une édition spéciale Latin House. Groove Nomade is back for a new session at Quais de la Photo. This time with a special guest: Rafa Nandez\, a DJ in Málaga’s music scene and part of Brunch Electronik. A special edition Latin House. Line up : RafaNandezNomade 130T-NouxSebastiàn Gomez Lechaptois 								\n				\n				\n				\n									\n					\n						\n									SHOTGUN
URL:https://quaidelaphoto.fr/evenement/soiree-on-off/
CATEGORIES:evenements
ATTACH;FMTTYPE=image/png:https://quaidelaphoto.fr/wp-content/uploads/2024/10/Banniere-Shotgun.png
END:VEVENT
BEGIN:VEVENT
DTSTART;TZID=Europe/Paris:20241114T190000
DTEND;TZID=Europe/Paris:20241115T020000
DTSTAMP:20260421T110748
CREATED:20241029T172311Z
LAST-MODIFIED:20241114T093917Z
UID:10000530-1731610800-1731636000@quaidelaphoto.fr
SUMMARY:LA SMALA
DESCRIPTION:Groove Nomade revient pour une nouvelle session au Quais de la Photo. Cette fois-ci avec un spécial guest : Rafa Nandez\, DJ et producteur de la scène musicale à Málaga et du Brunch Electronik. Une édition spéciale Latin House. Groove Nomade is back for a new session at Quais de la Photo. This time with a special guest: Rafa Nandez\, a DJ in Málaga’s music scene and part of Brunch Electronik. A special edition Latin House. Line up : RafaNandezNomade 130T-NouxSebastiàn Gomez Lechaptois 								\n				\n				\n				\n									\n					\n						\n									SHOTGUN
URL:https://quaidelaphoto.fr/evenement/la-smala/
CATEGORIES:evenements
ATTACH;FMTTYPE=image/png:https://quaidelaphoto.fr/wp-content/uploads/2024/10/Capture-decran-2024-10-28-145519.png
END:VEVENT
BEGIN:VEVENT
DTSTART;TZID=Europe/Paris:20241115T200000
DTEND;TZID=Europe/Paris:20241116T020000
DTSTAMP:20260421T110748
CREATED:20241031T135632Z
LAST-MODIFIED:20241114T094018Z
UID:10000535-1731700800-1731722400@quaidelaphoto.fr
SUMMARY:LA MIAOU RECORDS
DESCRIPTION:Groove Nomade revient pour une nouvelle session au Quais de la Photo. Cette fois-ci avec un spécial guest : Rafa Nandez\, DJ et producteur de la scène musicale à Málaga et du Brunch Electronik. Une édition spéciale Latin House. Groove Nomade is back for a new session at Quais de la Photo. This time with a special guest: Rafa Nandez\, a DJ in Málaga’s music scene and part of Brunch Electronik. A special edition Latin House. Line up : RafaNandezNomade 130T-NouxSebastiàn Gomez Lechaptois 								\n				\n				\n				\n									\n					\n						\n									SHOTGUN
URL:https://quaidelaphoto.fr/evenement/la-miaou-records/
CATEGORIES:evenements
ATTACH;FMTTYPE=image/png:https://quaidelaphoto.fr/wp-content/uploads/2024/10/MiaouRecords.png
END:VEVENT
BEGIN:VEVENT
DTSTART;TZID=Europe/Paris:20241116T190000
DTEND;TZID=Europe/Paris:20241117T020000
DTSTAMP:20260421T110748
CREATED:20241111T124236Z
LAST-MODIFIED:20241114T094142Z
UID:10000542-1731783600-1731808800@quaidelaphoto.fr
SUMMARY:La Marina#8
DESCRIPTION:Groove Nomade revient pour une nouvelle session au Quais de la Photo. Cette fois-ci avec un spécial guest : Rafa Nandez\, DJ et producteur de la scène musicale à Málaga et du Brunch Electronik. Une édition spéciale Latin House. Groove Nomade is back for a new session at Quais de la Photo. This time with a special guest: Rafa Nandez\, a DJ in Málaga’s music scene and part of Brunch Electronik. A special edition Latin House. Line up : RafaNandezNomade 130T-NouxSebastiàn Gomez Lechaptois 								\n				\n				\n				\n									\n					\n						\n									SHOTGUN
URL:https://quaidelaphoto.fr/evenement/la-marina8/
CATEGORIES:evenements
ATTACH;FMTTYPE=image/png:https://quaidelaphoto.fr/wp-content/uploads/2024/11/LaMarina.png
END:VEVENT
BEGIN:VEVENT
DTSTART;TZID=Europe/Paris:20241122T210000
DTEND;TZID=Europe/Paris:20241123T020000
DTSTAMP:20260421T110748
CREATED:20241111T134605Z
LAST-MODIFIED:20241114T094239Z
UID:10000543-1732309200-1732327200@quaidelaphoto.fr
SUMMARY:MOOZIKA
DESCRIPTION:Groove Nomade revient pour une nouvelle session au Quais de la Photo. Cette fois-ci avec un spécial guest : Rafa Nandez\, DJ et producteur de la scène musicale à Málaga et du Brunch Electronik. Une édition spéciale Latin House. Groove Nomade is back for a new session at Quais de la Photo. This time with a special guest: Rafa Nandez\, a DJ in Málaga’s music scene and part of Brunch Electronik. A special edition Latin House. Line up : RafaNandezNomade 130T-NouxSebastiàn Gomez Lechaptois 								\n				\n				\n				\n									\n					\n						\n									SHOTGUN
URL:https://quaidelaphoto.fr/evenement/moozika/
CATEGORIES:evenements
ATTACH;FMTTYPE=image/png:https://quaidelaphoto.fr/wp-content/uploads/2024/11/Moozika.png
END:VEVENT
BEGIN:VEVENT
DTSTART;TZID=Europe/Paris:20241127T190000
DTEND;TZID=Europe/Paris:20241127T203000
DTSTAMP:20260421T110748
CREATED:20241125T102450Z
LAST-MODIFIED:20241125T102836Z
UID:10000550-1732734000-1732739400@quaidelaphoto.fr
SUMMARY:Lancement du livre « Paysannes » par Alexis Vettoretti
DESCRIPTION:Groove Nomade revient pour une nouvelle session au Quais de la Photo. Cette fois-ci avec un spécial guest : Rafa Nandez\, DJ et producteur de la scène musicale à Málaga et du Brunch Electronik. Une édition spéciale Latin House. Groove Nomade is back for a new session at Quais de la Photo. This time with a special guest: Rafa Nandez\, a DJ in Málaga’s music scene and part of Brunch Electronik. A special edition Latin House. Line up : RafaNandezNomade 130T-NouxSebastiàn Gomez Lechaptois 								\n				\n				\n				\n									\n					\n						\n									SHOTGUN
URL:https://quaidelaphoto.fr/evenement/lancement-du-livre-paysannes-par-alexis-vettoretti/
CATEGORIES:evenements
ATTACH;FMTTYPE=image/png:https://quaidelaphoto.fr/wp-content/uploads/2024/11/IG_PAYSANNES.png
END:VEVENT
BEGIN:VEVENT
DTSTART;TZID=Europe/Paris:20241130T143000
DTEND;TZID=Europe/Paris:20241130T153000
DTSTAMP:20260421T110748
CREATED:20241121T171446Z
LAST-MODIFIED:20241121T173023Z
UID:10000547-1732977000-1732980600@quaidelaphoto.fr
SUMMARY:ATELIERS ENFANTS #10
DESCRIPTION:Groove Nomade revient pour une nouvelle session au Quais de la Photo. Cette fois-ci avec un spécial guest : Rafa Nandez\, DJ et producteur de la scène musicale à Málaga et du Brunch Electronik. Une édition spéciale Latin House. Groove Nomade is back for a new session at Quais de la Photo. This time with a special guest: Rafa Nandez\, a DJ in Málaga’s music scene and part of Brunch Electronik. A special edition Latin House. Line up : RafaNandezNomade 130T-NouxSebastiàn Gomez Lechaptois 								\n				\n				\n				\n									\n					\n						\n									SHOTGUN
URL:https://quaidelaphoto.fr/evenement/ateliers-enfants-10/
LOCATION:Studio
CATEGORIES:evenements
ATTACH;FMTTYPE=image/png:https://quaidelaphoto.fr/wp-content/uploads/2024/11/atelier-enfant-30-novembre-.png
END:VEVENT
END:VCALENDAR