BEGIN:VCALENDAR
VERSION:2.0
PRODID:-//Quai de la Photo : Centre d’art photographique - ECPv6.15.11//NONSGML v1.0//EN
CALSCALE:GREGORIAN
METHOD:PUBLISH
X-WR-CALNAME:Quai de la Photo : Centre d’art photographique
X-ORIGINAL-URL:https://quaidelaphoto.fr
X-WR-CALDESC:Évènements pour Quai de la Photo : Centre d’art photographique
REFRESH-INTERVAL;VALUE=DURATION:PT1H
X-Robots-Tag:noindex
X-PUBLISHED-TTL:PT1H
BEGIN:VTIMEZONE
TZID:Europe/Paris
BEGIN:DAYLIGHT
TZOFFSETFROM:+0100
TZOFFSETTO:+0200
TZNAME:CEST
DTSTART:20230326T010000
END:DAYLIGHT
BEGIN:STANDARD
TZOFFSETFROM:+0200
TZOFFSETTO:+0100
TZNAME:CET
DTSTART:20231029T010000
END:STANDARD
BEGIN:DAYLIGHT
TZOFFSETFROM:+0100
TZOFFSETTO:+0200
TZNAME:CEST
DTSTART:20240331T010000
END:DAYLIGHT
BEGIN:STANDARD
TZOFFSETFROM:+0200
TZOFFSETTO:+0100
TZNAME:CET
DTSTART:20241027T010000
END:STANDARD
BEGIN:DAYLIGHT
TZOFFSETFROM:+0100
TZOFFSETTO:+0200
TZNAME:CEST
DTSTART:20250330T010000
END:DAYLIGHT
BEGIN:STANDARD
TZOFFSETFROM:+0200
TZOFFSETTO:+0100
TZNAME:CET
DTSTART:20251026T010000
END:STANDARD
END:VTIMEZONE
BEGIN:VEVENT
DTSTART;VALUE=DATE:20240327
DTEND;VALUE=DATE:20240529
DTSTAMP:20260423T132810
CREATED:20240302T141723Z
LAST-MODIFIED:20240505T173416Z
UID:10000099-1711512000-1716868799@quaidelaphoto.fr
SUMMARY:La vie devant soi
DESCRIPTION:Groove Nomade revient pour une nouvelle session au Quais de la Photo. Cette fois-ci avec un spécial guest : Rafa Nandez\, DJ et producteur de la scène musicale à Málaga et du Brunch Electronik. Une édition spéciale Latin House. Groove Nomade is back for a new session at Quais de la Photo. This time with a special guest: Rafa Nandez\, a DJ in Málaga’s music scene and part of Brunch Electronik. A special edition Latin House. Line up : RafaNandezNomade 130T-NouxSebastiàn Gomez Lechaptois 								\n				\n				\n				\n									\n					\n						\n									SHOTGUN
URL:https://quaidelaphoto.fr/evenement/la-vie-devant-soi-2/
LOCATION:Dans la salle d’exposition du bateau\, 9 port de la Gare\, Paris\, 75013\, France
CATEGORIES:Expositions
ATTACH;FMTTYPE=image/jpeg:https://quaidelaphoto.fr/wp-content/uploads/2024/03/RV-50340-13-scaled.jpg
END:VEVENT
BEGIN:VEVENT
DTSTART;TZID=Europe/Paris:20240403T150000
DTEND;TZID=Europe/Paris:20240403T161500
DTSTAMP:20260423T132811
CREATED:20240307T125938Z
LAST-MODIFIED:20240307T130305Z
UID:10000105-1712156400-1712160900@quaidelaphoto.fr
SUMMARY:ATELIERS ENFANTS #4
DESCRIPTION:Groove Nomade revient pour une nouvelle session au Quais de la Photo. Cette fois-ci avec un spécial guest : Rafa Nandez\, DJ et producteur de la scène musicale à Málaga et du Brunch Electronik. Une édition spéciale Latin House. Groove Nomade is back for a new session at Quais de la Photo. This time with a special guest: Rafa Nandez\, a DJ in Málaga’s music scene and part of Brunch Electronik. A special edition Latin House. Line up : RafaNandezNomade 130T-NouxSebastiàn Gomez Lechaptois 								\n				\n				\n				\n									\n					\n						\n									SHOTGUN
URL:https://quaidelaphoto.fr/evenement/ateliers-enfants-4/
LOCATION:Dans la salle d’exposition du bateau\, 9 port de la Gare\, Paris\, 75013\, France
CATEGORIES:evenements
ATTACH;FMTTYPE=image/png:https://quaidelaphoto.fr/wp-content/uploads/2024/01/Capture-decran-2024-01-27-a-17.15.36.png
END:VEVENT
BEGIN:VEVENT
DTSTART;TZID=Europe/Paris:20240403T190000
DTEND;TZID=Europe/Paris:20240404T000000
DTSTAMP:20260423T132811
CREATED:20240321T214313Z
LAST-MODIFIED:20240322T135510Z
UID:10000111-1712170800-1712188800@quaidelaphoto.fr
SUMMARY:Quai de la photo invite Tamarae dans une Jam Session
DESCRIPTION:Groove Nomade revient pour une nouvelle session au Quais de la Photo. Cette fois-ci avec un spécial guest : Rafa Nandez\, DJ et producteur de la scène musicale à Málaga et du Brunch Electronik. Une édition spéciale Latin House. Groove Nomade is back for a new session at Quais de la Photo. This time with a special guest: Rafa Nandez\, a DJ in Málaga’s music scene and part of Brunch Electronik. A special edition Latin House. Line up : RafaNandezNomade 130T-NouxSebastiàn Gomez Lechaptois 								\n				\n				\n				\n									\n					\n						\n									SHOTGUN
URL:https://quaidelaphoto.fr/evenement/jam-session-tamarae-2/
CATEGORIES:evenements
ATTACH;FMTTYPE=image/png:https://quaidelaphoto.fr/wp-content/uploads/2024/02/Capture-decran-2024-02-01-a-21.25.58-e1711115403325.png
END:VEVENT
BEGIN:VEVENT
DTSTART;TZID=Europe/Paris:20240404T190000
DTEND;TZID=Europe/Paris:20240405T000000
DTSTAMP:20260423T132811
CREATED:20240321T215903Z
LAST-MODIFIED:20240325T164044Z
UID:10000112-1712257200-1712275200@quaidelaphoto.fr
SUMMARY:La Fusée #4 - Quai de la Photo
DESCRIPTION:Groove Nomade revient pour une nouvelle session au Quais de la Photo. Cette fois-ci avec un spécial guest : Rafa Nandez\, DJ et producteur de la scène musicale à Málaga et du Brunch Electronik. Une édition spéciale Latin House. Groove Nomade is back for a new session at Quais de la Photo. This time with a special guest: Rafa Nandez\, a DJ in Málaga’s music scene and part of Brunch Electronik. A special edition Latin House. Line up : RafaNandezNomade 130T-NouxSebastiàn Gomez Lechaptois 								\n				\n				\n				\n									\n					\n						\n									SHOTGUN
URL:https://quaidelaphoto.fr/evenement/la-fusee-4-quai-de-la-photo/
CATEGORIES:evenements
ATTACH;FMTTYPE=image/png:https://quaidelaphoto.fr/wp-content/uploads/2024/03/la-fusee-4.png
END:VEVENT
BEGIN:VEVENT
DTSTART;TZID=Europe/Paris:20240405T180000
DTEND;TZID=Europe/Paris:20240406T020000
DTSTAMP:20260423T132811
CREATED:20240325T150716Z
LAST-MODIFIED:20240329T132415Z
UID:10000115-1712340000-1712368800@quaidelaphoto.fr
SUMMARY:ACIDROP : ne te fie pas au bruit de la foule
DESCRIPTION:Groove Nomade revient pour une nouvelle session au Quais de la Photo. Cette fois-ci avec un spécial guest : Rafa Nandez\, DJ et producteur de la scène musicale à Málaga et du Brunch Electronik. Une édition spéciale Latin House. Groove Nomade is back for a new session at Quais de la Photo. This time with a special guest: Rafa Nandez\, a DJ in Málaga’s music scene and part of Brunch Electronik. A special edition Latin House. Line up : RafaNandezNomade 130T-NouxSebastiàn Gomez Lechaptois 								\n				\n				\n				\n									\n					\n						\n									SHOTGUN
URL:https://quaidelaphoto.fr/evenement/acidrop-ne-te-fie-pas-au-bruit-de-la-foule/
CATEGORIES:evenements
ATTACH;FMTTYPE=image/jpeg:https://quaidelaphoto.fr/wp-content/uploads/2024/03/acid-drop-paysage_page-0001.jpg
END:VEVENT
BEGIN:VEVENT
DTSTART;TZID=Europe/Paris:20240410T190000
DTEND;TZID=Europe/Paris:20240410T230000
DTSTAMP:20260423T132811
CREATED:20240405T102233Z
LAST-MODIFIED:20240405T102233Z
UID:10000120-1712775600-1712790000@quaidelaphoto.fr
SUMMARY:Tamarae Jam Session
DESCRIPTION:Groove Nomade revient pour une nouvelle session au Quais de la Photo. Cette fois-ci avec un spécial guest : Rafa Nandez\, DJ et producteur de la scène musicale à Málaga et du Brunch Electronik. Une édition spéciale Latin House. Groove Nomade is back for a new session at Quais de la Photo. This time with a special guest: Rafa Nandez\, a DJ in Málaga’s music scene and part of Brunch Electronik. A special edition Latin House. Line up : RafaNandezNomade 130T-NouxSebastiàn Gomez Lechaptois 								\n				\n				\n				\n									\n					\n						\n									SHOTGUN
URL:https://quaidelaphoto.fr/evenement/tamarae-jam-session/
CATEGORIES:evenements
ATTACH;FMTTYPE=image/png:https://quaidelaphoto.fr/wp-content/uploads/2024/02/Capture-decran-2024-02-01-a-21.25.58-e1711115403325.png
END:VEVENT
BEGIN:VEVENT
DTSTART;TZID=Europe/Paris:20240411T190000
DTEND;TZID=Europe/Paris:20240412T020000
DTSTAMP:20260423T132811
CREATED:20240315T135707Z
LAST-MODIFIED:20240315T135707Z
UID:10000108-1712862000-1712887200@quaidelaphoto.fr
SUMMARY:Italo Connection #3
DESCRIPTION:Groove Nomade revient pour une nouvelle session au Quais de la Photo. Cette fois-ci avec un spécial guest : Rafa Nandez\, DJ et producteur de la scène musicale à Málaga et du Brunch Electronik. Une édition spéciale Latin House. Groove Nomade is back for a new session at Quais de la Photo. This time with a special guest: Rafa Nandez\, a DJ in Málaga’s music scene and part of Brunch Electronik. A special edition Latin House. Line up : RafaNandezNomade 130T-NouxSebastiàn Gomez Lechaptois 								\n				\n				\n				\n									\n					\n						\n									SHOTGUN
URL:https://quaidelaphoto.fr/evenement/italo-connection-3/
CATEGORIES:evenements
ATTACH;FMTTYPE=image/png:https://quaidelaphoto.fr/wp-content/uploads/2024/03/apero-notturno.png
END:VEVENT
BEGIN:VEVENT
DTSTART;TZID=Europe/Paris:20240412T190000
DTEND;TZID=Europe/Paris:20240413T000000
DTSTAMP:20260423T132811
CREATED:20240405T124043Z
LAST-MODIFIED:20240405T124043Z
UID:10000121-1712948400-1712966400@quaidelaphoto.fr
SUMMARY:La Miaou Rési-danse
DESCRIPTION:Groove Nomade revient pour une nouvelle session au Quais de la Photo. Cette fois-ci avec un spécial guest : Rafa Nandez\, DJ et producteur de la scène musicale à Málaga et du Brunch Electronik. Une édition spéciale Latin House. Groove Nomade is back for a new session at Quais de la Photo. This time with a special guest: Rafa Nandez\, a DJ in Málaga’s music scene and part of Brunch Electronik. A special edition Latin House. Line up : RafaNandezNomade 130T-NouxSebastiàn Gomez Lechaptois 								\n				\n				\n				\n									\n					\n						\n									SHOTGUN
URL:https://quaidelaphoto.fr/evenement/la-miaou-resi-danse/
CATEGORIES:evenements
ATTACH;FMTTYPE=image/png:https://quaidelaphoto.fr/wp-content/uploads/2024/04/miaou-paysage-1.png
END:VEVENT
BEGIN:VEVENT
DTSTART;TZID=Europe/Paris:20240417T150000
DTEND;TZID=Europe/Paris:20240417T161500
DTSTAMP:20260423T132811
CREATED:20240403T174631Z
LAST-MODIFIED:20240407T135614Z
UID:10000119-1713366000-1713370500@quaidelaphoto.fr
SUMMARY:ATELIERS ENFANTS #5
DESCRIPTION:Groove Nomade revient pour une nouvelle session au Quais de la Photo. Cette fois-ci avec un spécial guest : Rafa Nandez\, DJ et producteur de la scène musicale à Málaga et du Brunch Electronik. Une édition spéciale Latin House. Groove Nomade is back for a new session at Quais de la Photo. This time with a special guest: Rafa Nandez\, a DJ in Málaga’s music scene and part of Brunch Electronik. A special edition Latin House. Line up : RafaNandezNomade 130T-NouxSebastiàn Gomez Lechaptois 								\n				\n				\n				\n									\n					\n						\n									SHOTGUN
URL:https://quaidelaphoto.fr/evenement/ateliers-enfants-5/
LOCATION:Dans la salle d’exposition du bateau\, 9 port de la Gare\, Paris\, 75013\, France
CATEGORIES:evenements
ATTACH;FMTTYPE=image/png:https://quaidelaphoto.fr/wp-content/uploads/2024/01/Capture-decran-2024-01-27-a-17.15.36.png
END:VEVENT
BEGIN:VEVENT
DTSTART;TZID=Europe/Paris:20240417T200000
DTEND;TZID=Europe/Paris:20240418T000000
DTSTAMP:20260423T132811
CREATED:20240405T124238Z
LAST-MODIFIED:20240405T124238Z
UID:10000122-1713384000-1713398400@quaidelaphoto.fr
SUMMARY:Tamarae Jam Session
DESCRIPTION:Groove Nomade revient pour une nouvelle session au Quais de la Photo. Cette fois-ci avec un spécial guest : Rafa Nandez\, DJ et producteur de la scène musicale à Málaga et du Brunch Electronik. Une édition spéciale Latin House. Groove Nomade is back for a new session at Quais de la Photo. This time with a special guest: Rafa Nandez\, a DJ in Málaga’s music scene and part of Brunch Electronik. A special edition Latin House. Line up : RafaNandezNomade 130T-NouxSebastiàn Gomez Lechaptois 								\n				\n				\n				\n									\n					\n						\n									SHOTGUN
URL:https://quaidelaphoto.fr/evenement/tamarae-jam-session-2/
CATEGORIES:evenements
ATTACH;FMTTYPE=image/png:https://quaidelaphoto.fr/wp-content/uploads/2024/02/Capture-decran-2024-02-01-a-21.25.58-e1711115403325.png
END:VEVENT
BEGIN:VEVENT
DTSTART;TZID=Europe/Paris:20240419T180000
DTEND;TZID=Europe/Paris:20240419T210000
DTSTAMP:20260423T132811
CREATED:20240405T125306Z
LAST-MODIFIED:20240410T163725Z
UID:10000123-1713549600-1713560400@quaidelaphoto.fr
SUMMARY:Afterwork Portfolio #5
DESCRIPTION:Groove Nomade revient pour une nouvelle session au Quais de la Photo. Cette fois-ci avec un spécial guest : Rafa Nandez\, DJ et producteur de la scène musicale à Málaga et du Brunch Electronik. Une édition spéciale Latin House. Groove Nomade is back for a new session at Quais de la Photo. This time with a special guest: Rafa Nandez\, a DJ in Málaga’s music scene and part of Brunch Electronik. A special edition Latin House. Line up : RafaNandezNomade 130T-NouxSebastiàn Gomez Lechaptois 								\n				\n				\n				\n									\n					\n						\n									SHOTGUN
URL:https://quaidelaphoto.fr/evenement/afterwork-portfolio-5q/
LOCATION:Dans la salle d’exposition du bateau\, 9 port de la Gare\, Paris\, 75013\, France
CATEGORIES:evenements
END:VEVENT
BEGIN:VEVENT
DTSTART;TZID=Europe/Paris:20240419T190000
DTEND;TZID=Europe/Paris:20240420T020000
DTSTAMP:20260423T132811
CREATED:20240330T132816Z
LAST-MODIFIED:20240410T101516Z
UID:10000118-1713553200-1713578400@quaidelaphoto.fr
SUMMARY:Focus#3 - Quai de la Photo
DESCRIPTION:Groove Nomade revient pour une nouvelle session au Quais de la Photo. Cette fois-ci avec un spécial guest : Rafa Nandez\, DJ et producteur de la scène musicale à Málaga et du Brunch Electronik. Une édition spéciale Latin House. Groove Nomade is back for a new session at Quais de la Photo. This time with a special guest: Rafa Nandez\, a DJ in Málaga’s music scene and part of Brunch Electronik. A special edition Latin House. Line up : RafaNandezNomade 130T-NouxSebastiàn Gomez Lechaptois 								\n				\n				\n				\n									\n					\n						\n									SHOTGUN
URL:https://quaidelaphoto.fr/evenement/la-fusee-4-quai-de-la-photo-2/
CATEGORIES:evenements
ATTACH;FMTTYPE=image/png:https://quaidelaphoto.fr/wp-content/uploads/2024/03/Focus-coupe.png
END:VEVENT
BEGIN:VEVENT
DTSTART;TZID=Europe/Paris:20240420T120000
DTEND;TZID=Europe/Paris:20240420T200000
DTSTAMP:20260423T132811
CREATED:20240410T160224Z
LAST-MODIFIED:20240411T095806Z
UID:10000127-1713614400-1713643200@quaidelaphoto.fr
SUMMARY:[COMPLET] Workshop  « Initiation au collodion humide en condition studio »
DESCRIPTION:Groove Nomade revient pour une nouvelle session au Quais de la Photo. Cette fois-ci avec un spécial guest : Rafa Nandez\, DJ et producteur de la scène musicale à Málaga et du Brunch Electronik. Une édition spéciale Latin House. Groove Nomade is back for a new session at Quais de la Photo. This time with a special guest: Rafa Nandez\, a DJ in Málaga’s music scene and part of Brunch Electronik. A special edition Latin House. Line up : RafaNandezNomade 130T-NouxSebastiàn Gomez Lechaptois 								\n				\n				\n				\n									\n					\n						\n									SHOTGUN
URL:https://quaidelaphoto.fr/evenement/workshop-initiation-au-collodion-humide-en-condition-studio-3/
LOCATION:Studio
CATEGORIES:evenements
END:VEVENT
BEGIN:VEVENT
DTSTART;TZID=Europe/Paris:20240421T120000
DTEND;TZID=Europe/Paris:20240421T200000
DTSTAMP:20260423T132811
CREATED:20240405T134254Z
LAST-MODIFIED:20240410T152517Z
UID:10000124-1713700800-1713729600@quaidelaphoto.fr
SUMMARY:Réalisation de Portraits au collodion humide
DESCRIPTION:Groove Nomade revient pour une nouvelle session au Quais de la Photo. Cette fois-ci avec un spécial guest : Rafa Nandez\, DJ et producteur de la scène musicale à Málaga et du Brunch Electronik. Une édition spéciale Latin House. Groove Nomade is back for a new session at Quais de la Photo. This time with a special guest: Rafa Nandez\, a DJ in Málaga’s music scene and part of Brunch Electronik. A special edition Latin House. Line up : RafaNandezNomade 130T-NouxSebastiàn Gomez Lechaptois 								\n				\n				\n				\n									\n					\n						\n									SHOTGUN
URL:https://quaidelaphoto.fr/evenement/realisation-de-portraits-au-collodion-humide-2/
LOCATION:Studio
CATEGORIES:evenements
END:VEVENT
BEGIN:VEVENT
DTSTART;TZID=Europe/Paris:20240424T190000
DTEND;TZID=Europe/Paris:20240424T203000
DTSTAMP:20260423T132811
CREATED:20240418T161316Z
LAST-MODIFIED:20240418T161428Z
UID:10000130-1713985200-1713990600@quaidelaphoto.fr
SUMMARY:RENCONTRE  Emmanuelle Hascoët (BnF) et les photographes Marie Docher et Anaïs Oudart
DESCRIPTION:Groove Nomade revient pour une nouvelle session au Quais de la Photo. Cette fois-ci avec un spécial guest : Rafa Nandez\, DJ et producteur de la scène musicale à Málaga et du Brunch Electronik. Une édition spéciale Latin House. Groove Nomade is back for a new session at Quais de la Photo. This time with a special guest: Rafa Nandez\, a DJ in Málaga’s music scene and part of Brunch Electronik. A special edition Latin House. Line up : RafaNandezNomade 130T-NouxSebastiàn Gomez Lechaptois 								\n				\n				\n				\n									\n					\n						\n									SHOTGUN
URL:https://quaidelaphoto.fr/evenement/rencontre-emmanuelle-hascoet-bnf-et-les-photographes-marie-docher-et-anais-oudart/
LOCATION:Librairie – La Comète
CATEGORIES:evenements
ATTACH;FMTTYPE=image/png:https://quaidelaphoto.fr/wp-content/uploads/2024/04/rencontre-27.png
END:VEVENT
BEGIN:VEVENT
DTSTART;TZID=Europe/Paris:20240424T190000
DTEND;TZID=Europe/Paris:20240424T230000
DTSTAMP:20260423T132811
CREATED:20240411T102017Z
LAST-MODIFIED:20240411T102017Z
UID:10000129-1713985200-1713999600@quaidelaphoto.fr
SUMMARY:Tamarae Jam Session
DESCRIPTION:Groove Nomade revient pour une nouvelle session au Quais de la Photo. Cette fois-ci avec un spécial guest : Rafa Nandez\, DJ et producteur de la scène musicale à Málaga et du Brunch Electronik. Une édition spéciale Latin House. Groove Nomade is back for a new session at Quais de la Photo. This time with a special guest: Rafa Nandez\, a DJ in Málaga’s music scene and part of Brunch Electronik. A special edition Latin House. Line up : RafaNandezNomade 130T-NouxSebastiàn Gomez Lechaptois 								\n				\n				\n				\n									\n					\n						\n									SHOTGUN
URL:https://quaidelaphoto.fr/evenement/tamarae-jam-session-3/
CATEGORIES:evenements
ATTACH;FMTTYPE=image/png:https://quaidelaphoto.fr/wp-content/uploads/2024/02/Capture-decran-2024-02-01-a-21.25.58-e1711115403325.png
END:VEVENT
BEGIN:VEVENT
DTSTART;TZID=Europe/Paris:20240425T190000
DTEND;TZID=Europe/Paris:20240426T000000
DTSTAMP:20260423T132811
CREATED:20240411T100440Z
LAST-MODIFIED:20240424T160323Z
UID:10000128-1714071600-1714089600@quaidelaphoto.fr
SUMMARY:Soirée Open Platine #5
DESCRIPTION:Groove Nomade revient pour une nouvelle session au Quais de la Photo. Cette fois-ci avec un spécial guest : Rafa Nandez\, DJ et producteur de la scène musicale à Málaga et du Brunch Electronik. Une édition spéciale Latin House. Groove Nomade is back for a new session at Quais de la Photo. This time with a special guest: Rafa Nandez\, a DJ in Málaga’s music scene and part of Brunch Electronik. A special edition Latin House. Line up : RafaNandezNomade 130T-NouxSebastiàn Gomez Lechaptois 								\n				\n				\n				\n									\n					\n						\n									SHOTGUN
URL:https://quaidelaphoto.fr/evenement/soiree-open-platine-5/
CATEGORIES:evenements
ATTACH;FMTTYPE=image/png:https://quaidelaphoto.fr/wp-content/uploads/2024/04/Openplatine_paysage_250424.png
END:VEVENT
BEGIN:VEVENT
DTSTART;TZID=Europe/Paris:20240426T190000
DTEND;TZID=Europe/Paris:20240427T020000
DTSTAMP:20260423T132811
CREATED:20240405T135841Z
LAST-MODIFIED:20240405T135841Z
UID:10000126-1714158000-1714183200@quaidelaphoto.fr
SUMMARY:Soirée Turbulence sur Seine
DESCRIPTION:Groove Nomade revient pour une nouvelle session au Quais de la Photo. Cette fois-ci avec un spécial guest : Rafa Nandez\, DJ et producteur de la scène musicale à Málaga et du Brunch Electronik. Une édition spéciale Latin House. Groove Nomade is back for a new session at Quais de la Photo. This time with a special guest: Rafa Nandez\, a DJ in Málaga’s music scene and part of Brunch Electronik. A special edition Latin House. Line up : RafaNandezNomade 130T-NouxSebastiàn Gomez Lechaptois 								\n				\n				\n				\n									\n					\n						\n									SHOTGUN
URL:https://quaidelaphoto.fr/evenement/soiree-turbulence-sur-seine-5/
LOCATION:Sur la barge\, 9 port de la Gare\, Paris\, 75013\, France
CATEGORIES:evenements
ATTACH;FMTTYPE=image/png:https://quaidelaphoto.fr/wp-content/uploads/2024/02/Capture-decran-2024-02-22-a-21.19.09.png
END:VEVENT
END:VCALENDAR