BEGIN:VCALENDAR
VERSION:2.0
PRODID:-//Quai de la Photo : Centre d’art photographique - ECPv6.15.11//NONSGML v1.0//EN
CALSCALE:GREGORIAN
METHOD:PUBLISH
X-WR-CALNAME:Quai de la Photo : Centre d’art photographique
X-ORIGINAL-URL:https://quaidelaphoto.fr
X-WR-CALDESC:Évènements pour Quai de la Photo : Centre d’art photographique
REFRESH-INTERVAL;VALUE=DURATION:PT1H
X-Robots-Tag:noindex
X-PUBLISHED-TTL:PT1H
BEGIN:VTIMEZONE
TZID:Europe/Paris
BEGIN:DAYLIGHT
TZOFFSETFROM:+0100
TZOFFSETTO:+0200
TZNAME:CEST
DTSTART:20220327T010000
END:DAYLIGHT
BEGIN:STANDARD
TZOFFSETFROM:+0200
TZOFFSETTO:+0100
TZNAME:CET
DTSTART:20221030T010000
END:STANDARD
BEGIN:DAYLIGHT
TZOFFSETFROM:+0100
TZOFFSETTO:+0200
TZNAME:CEST
DTSTART:20230326T010000
END:DAYLIGHT
BEGIN:STANDARD
TZOFFSETFROM:+0200
TZOFFSETTO:+0100
TZNAME:CET
DTSTART:20231029T010000
END:STANDARD
BEGIN:DAYLIGHT
TZOFFSETFROM:+0100
TZOFFSETTO:+0200
TZNAME:CEST
DTSTART:20240331T010000
END:DAYLIGHT
BEGIN:STANDARD
TZOFFSETFROM:+0200
TZOFFSETTO:+0100
TZNAME:CET
DTSTART:20241027T010000
END:STANDARD
BEGIN:DAYLIGHT
TZOFFSETFROM:+0100
TZOFFSETTO:+0200
TZNAME:CEST
DTSTART:20250330T010000
END:DAYLIGHT
BEGIN:STANDARD
TZOFFSETFROM:+0200
TZOFFSETTO:+0100
TZNAME:CET
DTSTART:20251026T010000
END:STANDARD
END:VTIMEZONE
BEGIN:VEVENT
DTSTART;VALUE=DATE:20231216
DTEND;VALUE=DATE:20240322
DTSTAMP:20260423T165005
CREATED:20231218T130459Z
LAST-MODIFIED:20231218T130713Z
UID:10000042-1702699200-1710993599@quaidelaphoto.fr
SUMMARY:KATE BARRY
DESCRIPTION:Groove Nomade revient pour une nouvelle session au Quais de la Photo. Cette fois-ci avec un spécial guest : Rafa Nandez\, DJ et producteur de la scène musicale à Málaga et du Brunch Electronik. Une édition spéciale Latin House. Groove Nomade is back for a new session at Quais de la Photo. This time with a special guest: Rafa Nandez\, a DJ in Málaga’s music scene and part of Brunch Electronik. A special edition Latin House. Line up : RafaNandezNomade 130T-NouxSebastiàn Gomez Lechaptois 								\n				\n				\n				\n									\n					\n						\n									SHOTGUN
URL:https://quaidelaphoto.fr/evenement/kate-barry-2-2/
LOCATION:Dans la salle d’exposition du bateau\, 9 port de la Gare\, Paris\, 75013\, France
CATEGORIES:Expositions
ATTACH;FMTTYPE=image/png:https://quaidelaphoto.fr/wp-content/uploads/2023/11/Capture-decran-2023-11-18-a-11.59.56-1-e1702378105654.png
END:VEVENT
BEGIN:VEVENT
DTSTART;TZID=Europe/Paris:20240202T190000
DTEND;TZID=Europe/Paris:20240203T020000
DTSTAMP:20260423T165005
CREATED:20240124T114552Z
LAST-MODIFIED:20240125T153252Z
UID:10000079-1706900400-1706925600@quaidelaphoto.fr
SUMMARY:Soirée Turbulence sur Seine
DESCRIPTION:Groove Nomade revient pour une nouvelle session au Quais de la Photo. Cette fois-ci avec un spécial guest : Rafa Nandez\, DJ et producteur de la scène musicale à Málaga et du Brunch Electronik. Une édition spéciale Latin House. Groove Nomade is back for a new session at Quais de la Photo. This time with a special guest: Rafa Nandez\, a DJ in Málaga’s music scene and part of Brunch Electronik. A special edition Latin House. Line up : RafaNandezNomade 130T-NouxSebastiàn Gomez Lechaptois 								\n				\n				\n				\n									\n					\n						\n									SHOTGUN
URL:https://quaidelaphoto.fr/evenement/soiree-turbulence-sur-seine-3/
LOCATION:Sur la barge\, 9 port de la Gare\, Paris\, 75013\, France
CATEGORIES:evenements
ATTACH;FMTTYPE=image/png:https://quaidelaphoto.fr/wp-content/uploads/2023/12/Capture-decran-2023-12-23-a-15.34.26.png
END:VEVENT
BEGIN:VEVENT
DTSTART;TZID=Europe/Paris:20240204T140000
DTEND;TZID=Europe/Paris:20240204T151500
DTSTAMP:20260423T165005
CREATED:20240127T164423Z
LAST-MODIFIED:20240131T131939Z
UID:10000087-1707055200-1707059700@quaidelaphoto.fr
SUMMARY:ATELIERS ENFANTS
DESCRIPTION:Groove Nomade revient pour une nouvelle session au Quais de la Photo. Cette fois-ci avec un spécial guest : Rafa Nandez\, DJ et producteur de la scène musicale à Málaga et du Brunch Electronik. Une édition spéciale Latin House. Groove Nomade is back for a new session at Quais de la Photo. This time with a special guest: Rafa Nandez\, a DJ in Málaga’s music scene and part of Brunch Electronik. A special edition Latin House. Line up : RafaNandezNomade 130T-NouxSebastiàn Gomez Lechaptois 								\n				\n				\n				\n									\n					\n						\n									SHOTGUN
URL:https://quaidelaphoto.fr/evenement/ateliers-enfants/
LOCATION:Dans la salle d’exposition du bateau\, 9 port de la Gare\, Paris\, 75013\, France
CATEGORIES:evenements
ATTACH;FMTTYPE=image/png:https://quaidelaphoto.fr/wp-content/uploads/2024/01/Capture-decran-2024-01-27-a-17.15.36.png
END:VEVENT
BEGIN:VEVENT
DTSTART;TZID=Europe/Paris:20240208T180000
DTEND;TZID=Europe/Paris:20240209T020000
DTSTAMP:20260423T165005
CREATED:20240125T153200Z
LAST-MODIFIED:20240125T153200Z
UID:10000085-1707415200-1707444000@quaidelaphoto.fr
SUMMARY:Vernissage de l'exposition My Own Space de Kate Barry
DESCRIPTION:Groove Nomade revient pour une nouvelle session au Quais de la Photo. Cette fois-ci avec un spécial guest : Rafa Nandez\, DJ et producteur de la scène musicale à Málaga et du Brunch Electronik. Une édition spéciale Latin House. Groove Nomade is back for a new session at Quais de la Photo. This time with a special guest: Rafa Nandez\, a DJ in Málaga’s music scene and part of Brunch Electronik. A special edition Latin House. Line up : RafaNandezNomade 130T-NouxSebastiàn Gomez Lechaptois 								\n				\n				\n				\n									\n					\n						\n									SHOTGUN
URL:https://quaidelaphoto.fr/evenement/vernissage-de-lexposition-my-own-space-de-kate-barry-2/
CATEGORIES:evenements
ATTACH;FMTTYPE=image/png:https://quaidelaphoto.fr/wp-content/uploads/2024/01/Capture-decran-2024-01-25-a-16.29.24.png
END:VEVENT
BEGIN:VEVENT
DTSTART;TZID=Europe/Paris:20240216T190000
DTEND;TZID=Europe/Paris:20240217T020000
DTSTAMP:20260423T165005
CREATED:20240124T115929Z
LAST-MODIFIED:20240124T120118Z
UID:10000081-1708110000-1708135200@quaidelaphoto.fr
SUMMARY:Soirée Open Platine #2
DESCRIPTION:Groove Nomade revient pour une nouvelle session au Quais de la Photo. Cette fois-ci avec un spécial guest : Rafa Nandez\, DJ et producteur de la scène musicale à Málaga et du Brunch Electronik. Une édition spéciale Latin House. Groove Nomade is back for a new session at Quais de la Photo. This time with a special guest: Rafa Nandez\, a DJ in Málaga’s music scene and part of Brunch Electronik. A special edition Latin House. Line up : RafaNandezNomade 130T-NouxSebastiàn Gomez Lechaptois 								\n				\n				\n				\n									\n					\n						\n									SHOTGUN
URL:https://quaidelaphoto.fr/evenement/soiree-open-platine-2/
CATEGORIES:evenements
ATTACH;FMTTYPE=image/png:https://quaidelaphoto.fr/wp-content/uploads/2023/12/Capture-decran-2024-01-07-a-13.19.30.png
END:VEVENT
BEGIN:VEVENT
DTSTART;TZID=Europe/Paris:20240222T190000
DTEND;TZID=Europe/Paris:20240223T020000
DTSTAMP:20260423T165005
CREATED:20240124T140909Z
LAST-MODIFIED:20240210T192353Z
UID:10000083-1708628400-1708653600@quaidelaphoto.fr
SUMMARY:Soirée Les Nocturnes du Studio #4
DESCRIPTION:Groove Nomade revient pour une nouvelle session au Quais de la Photo. Cette fois-ci avec un spécial guest : Rafa Nandez\, DJ et producteur de la scène musicale à Málaga et du Brunch Electronik. Une édition spéciale Latin House. Groove Nomade is back for a new session at Quais de la Photo. This time with a special guest: Rafa Nandez\, a DJ in Málaga’s music scene and part of Brunch Electronik. A special edition Latin House. Line up : RafaNandezNomade 130T-NouxSebastiàn Gomez Lechaptois 								\n				\n				\n				\n									\n					\n						\n									SHOTGUN
URL:https://quaidelaphoto.fr/evenement/soiree-les-nocturnes-du-studio-4/
CATEGORIES:evenements
ATTACH;FMTTYPE=image/jpeg:https://quaidelaphoto.fr/wp-content/uploads/2024/01/AFFICHE-SITE-INTERNET-.jpg
END:VEVENT
BEGIN:VEVENT
DTSTART;TZID=Europe/Paris:20240222T190000
DTEND;TZID=Europe/Paris:20240223T020000
DTSTAMP:20260423T165005
CREATED:20240508T162133Z
LAST-MODIFIED:20240508T162133Z
UID:10000159-1708628400-1708653600@quaidelaphoto.fr
SUMMARY:Soirée Les Nocturnes du Studio #4
DESCRIPTION:Groove Nomade revient pour une nouvelle session au Quais de la Photo. Cette fois-ci avec un spécial guest : Rafa Nandez\, DJ et producteur de la scène musicale à Málaga et du Brunch Electronik. Une édition spéciale Latin House. Groove Nomade is back for a new session at Quais de la Photo. This time with a special guest: Rafa Nandez\, a DJ in Málaga’s music scene and part of Brunch Electronik. A special edition Latin House. Line up : RafaNandezNomade 130T-NouxSebastiàn Gomez Lechaptois 								\n				\n				\n				\n									\n					\n						\n									SHOTGUN
URL:https://quaidelaphoto.fr/evenement/soiree-les-nocturnes-du-studio-4-3/
CATEGORIES:evenements
ATTACH;FMTTYPE=image/jpeg:https://quaidelaphoto.fr/wp-content/uploads/2024/05/nocturne-fakele_page-0001.jpg
END:VEVENT
BEGIN:VEVENT
DTSTART;TZID=Europe/Paris:20240223T180000
DTEND;TZID=Europe/Paris:20240223T210000
DTSTAMP:20260423T165005
CREATED:20240124T115108Z
LAST-MODIFIED:20240210T194134Z
UID:10000080-1708711200-1708722000@quaidelaphoto.fr
SUMMARY:Afterwork Portfolio #3
DESCRIPTION:Groove Nomade revient pour une nouvelle session au Quais de la Photo. Cette fois-ci avec un spécial guest : Rafa Nandez\, DJ et producteur de la scène musicale à Málaga et du Brunch Electronik. Une édition spéciale Latin House. Groove Nomade is back for a new session at Quais de la Photo. This time with a special guest: Rafa Nandez\, a DJ in Málaga’s music scene and part of Brunch Electronik. A special edition Latin House. Line up : RafaNandezNomade 130T-NouxSebastiàn Gomez Lechaptois 								\n				\n				\n				\n									\n					\n						\n									SHOTGUN
URL:https://quaidelaphoto.fr/evenement/afterwork-portfolio-3-2/
LOCATION:Sur la barge\, 9 port de la Gare\, Paris\, 75013\, France
CATEGORIES:evenements
ATTACH;FMTTYPE=image/png:https://quaidelaphoto.fr/wp-content/uploads/2024/01/Capture-decran-2024-02-10-a-20.40.29.png
END:VEVENT
BEGIN:VEVENT
DTSTART;TZID=Europe/Paris:20240223T190000
DTEND;TZID=Europe/Paris:20240224T020000
DTSTAMP:20260423T165005
CREATED:20240124T120319Z
LAST-MODIFIED:20240221T172701Z
UID:10000082-1708714800-1708740000@quaidelaphoto.fr
SUMMARY:RÉSIDENCE BOLD HOUSE - SOIRÉE FOCUS
DESCRIPTION:Groove Nomade revient pour une nouvelle session au Quais de la Photo. Cette fois-ci avec un spécial guest : Rafa Nandez\, DJ et producteur de la scène musicale à Málaga et du Brunch Electronik. Une édition spéciale Latin House. Groove Nomade is back for a new session at Quais de la Photo. This time with a special guest: Rafa Nandez\, a DJ in Málaga’s music scene and part of Brunch Electronik. A special edition Latin House. Line up : RafaNandezNomade 130T-NouxSebastiàn Gomez Lechaptois 								\n				\n				\n				\n									\n					\n						\n									SHOTGUN
URL:https://quaidelaphoto.fr/evenement/soiree-bold-music-3/
CATEGORIES:evenements
ATTACH;FMTTYPE=image/jpeg:https://quaidelaphoto.fr/wp-content/uploads/2024/01/image_123650291-3_1-scaled.jpg
END:VEVENT
BEGIN:VEVENT
DTSTART;TZID=Europe/Paris:20240224T140000
DTEND;TZID=Europe/Paris:20240224T180000
DTSTAMP:20260423T165005
CREATED:20240118T190522Z
LAST-MODIFIED:20240217T145454Z
UID:10000073-1708783200-1708797600@quaidelaphoto.fr
SUMMARY:Workshop  « Initiation au collodion humide en condition studio »
DESCRIPTION:Groove Nomade revient pour une nouvelle session au Quais de la Photo. Cette fois-ci avec un spécial guest : Rafa Nandez\, DJ et producteur de la scène musicale à Málaga et du Brunch Electronik. Une édition spéciale Latin House. Groove Nomade is back for a new session at Quais de la Photo. This time with a special guest: Rafa Nandez\, a DJ in Málaga’s music scene and part of Brunch Electronik. A special edition Latin House. Line up : RafaNandezNomade 130T-NouxSebastiàn Gomez Lechaptois 								\n				\n				\n				\n									\n					\n						\n									SHOTGUN
URL:https://quaidelaphoto.fr/evenement/workshop-initiation-au-collodion-humide-en-condition-studio-2/
LOCATION:Studio
CATEGORIES:evenements
ATTACH;FMTTYPE=image/png:https://quaidelaphoto.fr/wp-content/uploads/2024/01/Capture-decran-2024-01-18-a-19.35.11.png
END:VEVENT
BEGIN:VEVENT
DTSTART;TZID=Europe/Paris:20240224T200000
DTEND;TZID=Europe/Paris:20240224T220000
DTSTAMP:20260423T165005
CREATED:20240119T102450Z
LAST-MODIFIED:20240119T102450Z
UID:10000076-1708804800-1708812000@quaidelaphoto.fr
SUMMARY:Nocturne réalisation de Portraits au collodion humide
DESCRIPTION:Groove Nomade revient pour une nouvelle session au Quais de la Photo. Cette fois-ci avec un spécial guest : Rafa Nandez\, DJ et producteur de la scène musicale à Málaga et du Brunch Electronik. Une édition spéciale Latin House. Groove Nomade is back for a new session at Quais de la Photo. This time with a special guest: Rafa Nandez\, a DJ in Málaga’s music scene and part of Brunch Electronik. A special edition Latin House. Line up : RafaNandezNomade 130T-NouxSebastiàn Gomez Lechaptois 								\n				\n				\n				\n									\n					\n						\n									SHOTGUN
URL:https://quaidelaphoto.fr/evenement/nocturne-realisation-de-portraits-au-collodion-humide/
LOCATION:Studio
CATEGORIES:evenements
ATTACH;FMTTYPE=image/png:https://quaidelaphoto.fr/wp-content/uploads/2024/01/Capture-decran-2024-01-19-a-11.08.42.png
END:VEVENT
BEGIN:VEVENT
DTSTART;TZID=Europe/Paris:20240225T120000
DTEND;TZID=Europe/Paris:20240225T200000
DTSTAMP:20260423T165005
CREATED:20240118T183348Z
LAST-MODIFIED:20240118T190624Z
UID:10000072-1708862400-1708891200@quaidelaphoto.fr
SUMMARY:Réalisation de Portraits au collodion humide
DESCRIPTION:Groove Nomade revient pour une nouvelle session au Quais de la Photo. Cette fois-ci avec un spécial guest : Rafa Nandez\, DJ et producteur de la scène musicale à Málaga et du Brunch Electronik. Une édition spéciale Latin House. Groove Nomade is back for a new session at Quais de la Photo. This time with a special guest: Rafa Nandez\, a DJ in Málaga’s music scene and part of Brunch Electronik. A special edition Latin House. Line up : RafaNandezNomade 130T-NouxSebastiàn Gomez Lechaptois 								\n				\n				\n				\n									\n					\n						\n									SHOTGUN
URL:https://quaidelaphoto.fr/evenement/realisation-de-portraits-au-collodion-humide/
LOCATION:Studio
CATEGORIES:evenements
ATTACH;FMTTYPE=image/png:https://quaidelaphoto.fr/wp-content/uploads/2024/01/Capture-decran-2024-01-18-a-19.31.00.png
END:VEVENT
BEGIN:VEVENT
DTSTART;TZID=Europe/Paris:20240228T150000
DTEND;TZID=Europe/Paris:20240228T161500
DTSTAMP:20260423T165005
CREATED:20240217T144508Z
LAST-MODIFIED:20240224T152141Z
UID:10000089-1709132400-1709136900@quaidelaphoto.fr
SUMMARY:ATELIERS ENFANTS #2
DESCRIPTION:Groove Nomade revient pour une nouvelle session au Quais de la Photo. Cette fois-ci avec un spécial guest : Rafa Nandez\, DJ et producteur de la scène musicale à Málaga et du Brunch Electronik. Une édition spéciale Latin House. Groove Nomade is back for a new session at Quais de la Photo. This time with a special guest: Rafa Nandez\, a DJ in Málaga’s music scene and part of Brunch Electronik. A special edition Latin House. Line up : RafaNandezNomade 130T-NouxSebastiàn Gomez Lechaptois 								\n				\n				\n				\n									\n					\n						\n									SHOTGUN
URL:https://quaidelaphoto.fr/evenement/ateliers-enfants-2/
LOCATION:Dans la salle d’exposition du bateau\, 9 port de la Gare\, Paris\, 75013\, France
CATEGORIES:evenements
ATTACH;FMTTYPE=image/png:https://quaidelaphoto.fr/wp-content/uploads/2024/01/Capture-decran-2024-01-27-a-17.15.36.png
END:VEVENT
END:VCALENDAR